Workbook

Sheet Cumulative
C1: Sponsor Name: | J1: Indirect Rate: | K1: 0.4165 | L1: Do NOT Change - Do not put 30% here. % of TFFA is calculated in the yellow box below.
C2: Start Date:
C3: End Date:
C4: Principal Investigator:
C5: Project Title: | N5: Updated for FY2027 - 09.10.2026
G7: Year 1 | H7: Year 2 | I7: Year 3 | J7: Year 4 | K7: Year 5 | L7: Total | N7: Check Total (This column accumulates the "total" columns of each PI tab.
A8: A. Personnel (Salaries, Wages, & Fringe)
B9: 1. Senior Key Personnel
B10: A. Senior Personnel | C10: PI 1 | G10: ='PI 1'!H10+'PI 1'!H11+'PI 1'!H12+'PI 1'!H13 -> 0 | H10: ='PI 1'!I10+'PI 1'!I11+'PI 1'!I12+'PI 1'!I13 -> 0 | I10: ='PI 1'!J10+'PI 1'!J11+'PI 1'!J12+'PI 1'!J13 -> 0 | J10: ='PI 1'!K10+'PI 1'!K11+'PI 1'!K12+'PI 1'!K13 -> 0 | K10: ='PI 1'!L10+'PI 1'!L11+'PI 1'!L12+'PI 1'!L13 -> 0 | L10: =SUM(G10:K10) -> 0 | N10: ='PI 1'!M10+'PI 1'!M11+'PI 1'!M12+'PI 1'!M13 -> 0 | O10: Note for Senior Key Personnel
C11: PI 2 | G11: ='PI 2'!H10+'PI 2'!H11+'PI 2'!H12+'PI 2'!H13 -> 0 | H11: ='PI 2'!I10+'PI 2'!I11+'PI 2'!I12+'PI 2'!I13 -> 0 | I11: ='PI 2'!J10+'PI 2'!J11+'PI 2'!J12+'PI 2'!J13 -> 0 | J11: ='PI 2'!K10+'PI 2'!K11+'PI 2'!K12+'PI 2'!K13 -> 0 | K11: ='PI 2'!L10+'PI 2'!L11+'PI 2'!L12+'PI 2'!L13 -> 0 | L11: =SUM(G11:K11) -> 0 | N11: ='PI 2'!M10+'PI 2'!M11+'PI 2'!M12+'PI 2'!M13 -> 0 | O11: If Summer Salary, make sure
C12: PI 3 | G12: ='PI 3'!H10+'PI 3'!H11+'PI 3'!H12+'PI 3'!H13 -> 0 | H12: ='PI 3'!I10+'PI 3'!I11+'PI 3'!I12+'PI 3'!I13 -> 0 | I12: ='PI 3'!J10+'PI 3'!J11+'PI 3'!J12+'PI 3'!J13 -> 0 | J12: ='PI 3'!K10+'PI 3'!K11+'PI 3'!K12+'PI 3'!K13 -> 0 | K12: ='PI 3'!L10+'PI 3'!L11+'PI 3'!L12+'PI 3'!L13 -> 0 | L12: =SUM(G12:K12) -> 0 | N12: ='PI 3'!M10+'PI 3'!M11+'PI 3'!M12+'PI 3'!M13 -> 0 | O12: you change the fringe rate
C13: PI 4 | G13: ='PI 4'!H10+'PI 4'!H11+'PI 4'!H12+'PI 4'!H13 -> 0 | H13: ='PI 4'!I10+'PI 4'!I11+'PI 4'!I12+'PI 4'!I13 -> 0 | I13: ='PI 4'!J10+'PI 4'!J11+'PI 4'!J12+'PI 4'!J13 -> 0 | J13: ='PI 4'!K10+'PI 4'!K11+'PI 4'!K12+'PI 4'!K13 -> 0 | K13: ='PI 4'!L10+'PI 4'!L11+'PI 4'!L12+'PI 4'!L13 -> 0 | L13: =SUM(G13:K13) -> 0 | N13: ='PI 4'!M10+'PI 4'!M11+'PI 4'!M12+'PI 4'!M13 -> 0 | O13: to 24.50% in Cells F31 to F41
C14: PI 5 | G14: ='PI 5'!H10+'PI 5'!H11+'PI 5'!H12+'PI 5'!H13 -> 0 | H14: ='PI 5'!I10+'PI 5'!I11+'PI 5'!I12+'PI 5'!I13 -> 0 | I14: ='PI 5'!J10+'PI 5'!J11+'PI 5'!J12+'PI 5'!J13 -> 0 | J14: ='PI 5'!K10+'PI 5'!K11+'PI 5'!K12+'PI 5'!K13 -> 0 | K14: ='PI 5'!L10+'PI 5'!L11+'PI 5'!L12+'PI 5'!L13 -> 0 | L14: =SUM(G14:K14) -> 0 | N14: ='PI 5'!M10+'PI 5'!M11+'PI 5'!M12+'PI 5'!M13 -> 0
C15: PI 6 | G15: ='PI 6'!H10+'PI 6'!H11+'PI 6'!H12+'PI 6'!H13 -> 0 | H15: ='PI 6'!I10+'PI 6'!I11+'PI 6'!I12+'PI 6'!I13 -> 0 | I15: ='PI 6'!J10+'PI 6'!J11+'PI 6'!J12+'PI 6'!J13 -> 0 | J15: ='PI 6'!K10+'PI 6'!K11+'PI 6'!K12+'PI 6'!K13 -> 0 | K15: ='PI 6'!L10+'PI 6'!L11+'PI 6'!L12+'PI 6'!L13 -> 0 | L15: =SUM(G15:K15) -> 0 | N15: ='PI 6'!M10+'PI 6'!M11+'PI 6'!M12+'PI 6'!M13 -> 0 | O15: Summer Salary is only allowed if you are a 9 month faculty.
C16: PI 7 | G16: ='PI 7'!H10+'PI 7'!H11+'PI 7'!H12+'PI 7'!H13 -> 0 | H16: ='PI 7'!I10+'PI 7'!I11+'PI 7'!I12+'PI 7'!I13 -> 0 | I16: ='PI 7'!J10+'PI 7'!J11+'PI 7'!J12+'PI 7'!J13 -> 0 | J16: ='PI 7'!K10+'PI 7'!K11+'PI 7'!K12+'PI 7'!K13 -> 0 | K16: ='PI 7'!L10+'PI 7'!L11+'PI 7'!L12+'PI 7'!L13 -> 0 | L16: =SUM(G16:K16) -> 0 | N16: ='PI 2'!M15+'PI 2'!M16+'PI 2'!M17+'PI 2'!M18 -> 0
C17: PI 8 | G17: ='PI 8'!H10+'PI 8'!H11+'PI 8'!H12+'PI 8'!H13 -> 0 | H17: ='PI 8'!I10+'PI 8'!I11+'PI 8'!I12+'PI 8'!I13 -> 0 | I17: ='PI 8'!J10+'PI 8'!J11+'PI 8'!J12+'PI 8'!J13 -> 0 | J17: ='PI 8'!K10+'PI 8'!K11+'PI 8'!K12+'PI 8'!K13 -> 0 | K17: ='PI 8'!L10+'PI 8'!L11+'PI 8'!L12+'PI 8'!L13 -> 0 | L17: =SUM(G17:K17) -> 0 | N17: ='PI 7'!M10+'PI 7'!M11+'PI 7'!M12+'PI 7'!M13 -> 0
C18: PI 9 | G18: ='PI 9'!H10+'PI 9'!H11+'PI 9'!H12+'PI 9'!H13 -> 0 | H18: ='PI 9'!I10+'PI 9'!I11+'PI 9'!I12+'PI 9'!I13 -> 0 | I18: ='PI 9'!J10+'PI 9'!J11+'PI 9'!J12+'PI 9'!J13 -> 0 | J18: ='PI 9'!K10+'PI 9'!K11+'PI 9'!K12+'PI 9'!K13 -> 0 | K18: ='PI 9'!L10+'PI 9'!L11+'PI 9'!L12+'PI 9'!L13 -> 0 | L18: =SUM(G18:K18) -> 0 | N18: ='PI 2'!M17+'PI 2'!M18+'PI 2'!M19+'PI 2'!M20 -> 0
C19: PI 10 | G19: ='PI 10'!H10+'PI 10'!H11+'PI 10'!H12+'PI 10'!H13 -> 0 | H19: ='PI 10'!I10+'PI 10'!I11+'PI 10'!I12+'PI 10'!I13 -> 0 | I19: ='PI 10'!J10+'PI 10'!J11+'PI 10'!J12+'PI 10'!J13 -> 0 | J19: ='PI 10'!K10+'PI 10'!K11+'PI 10'!K12+'PI 10'!K13 -> 0 | K19: ='PI 10'!L10+'PI 10'!L11+'PI 10'!L12+'PI 10'!L13 -> 0 | L19: =SUM(G19:K19) -> 0 | N19: ='PI 10'!M10+'PI 10'!M11+'PI 10'!M12+'PI 10'!M13 -> 0
C20: PI 11 | G20: ='PI 11'!H10+'PI 11'!H11+'PI 11'!H12+'PI 11'!H13 -> 0 | H20: ='PI 11'!I10+'PI 11'!I11+'PI 11'!I12+'PI 11'!I13 -> 0 | I20: ='PI 11'!J10+'PI 11'!J11+'PI 11'!J12+'PI 11'!J13 -> 0 | J20: ='PI 11'!K10+'PI 11'!K11+'PI 11'!K12+'PI 11'!K13 -> 0 | K20: ='PI 11'!L10+'PI 11'!L11+'PI 11'!L12+'PI 11'!L13 -> 0 | L20: =SUM(G20:K20) -> 0 | N20: ='PI 11'!M10+'PI 11'!M11+'PI 11'!M12+'PI 11'!M13 -> 0
F21: No. of Each
B22: B. Other Personnel | C22: PostDoctoral Associates | F22: ='PI 1'!G15+'PI 2'!G15+'PI 3'!G15+'PI 4'!G15+'PI 5'!G15+'PI 6'!G15+'PI 7'!G15+'PI 8'!G15+'PI 9'!G15+'PI 10'!G15+'PI 11'!G15 -> 0 | G22: ='PI 1'!H15+'PI 2'!H15+'PI 3'!H15+'PI 4'!H15+'PI 5'!H15+'PI 6'!H15+'PI 7'!H15+'PI 8'!H15+'PI 9'!H15+'PI 10'!H15+'PI 11'!H15 -> 0 | H22: ='PI 1'!I15+'PI 2'!I15+'PI 3'!I15+'PI 4'!I15+'PI 5'!I15+'PI 6'!I15+'PI 7'!I15+'PI 8'!I15+'PI 9'!I15+'PI 10'!I15+'PI 11'!I15 -> 0 | I22: ='PI 1'!J15+'PI 2'!J15+'PI 3'!J15+'PI 4'!J15+'PI 5'!J15+'PI 6'!J15+'PI 7'!J15+'PI 8'!J15+'PI 9'!J15+'PI 10'!J15+'PI 11'!J15 -> 0 | J22: ='PI 1'!K15+'PI 2'!K15+'PI 3'!K15+'PI 4'!K15+'PI 5'!K15+'PI 6'!K15+'PI 7'!K15+'PI 8'!K15+'PI 9'!K15+'PI 10'!K15+'PI 11'!K15 -> 0 | K22: ='PI 1'!L15+'PI 2'!L15+'PI 3'!L15+'PI 4'!L15+'PI 5'!L15+'PI 6'!L15+'PI 7'!L15+'PI 8'!L15+'PI 9'!L15+'PI 10'!L15+'PI 11'!L15 -> 0 | L22: =SUM(G22:K22) -> 0 | N22: ='PI 1'!M15+'PI 2'!M15+'PI 3'!M15+'PI 4'!M15+'PI 5'!M15+'PI 6'!M15+'PI 7'!M15+'PI 8'!M15+'PI 9'!M15+'PI 10'!M15+'PI 11'!M15 -> 0
C23: Other Professionals (Techs, etc.) | F23: ='PI 1'!G16+'PI 2'!G16+'PI 3'!G16+'PI 4'!G16+'PI 5'!G16+'PI 6'!G16+'PI 7'!G16+'PI 8'!G16+'PI 9'!G16+'PI 10'!G16+'PI 11'!G16 -> 0 | G23: ='PI 1'!H16+'PI 2'!H16+'PI 3'!H16+'PI 4'!H16+'PI 5'!H16+'PI 6'!H16+'PI 7'!H16+'PI 8'!H16+'PI 9'!H16+'PI 10'!H16+'PI 11'!H16 -> 0 | H23: ='PI 1'!I16+'PI 2'!I16+'PI 3'!I16+'PI 4'!I16+'PI 5'!I16+'PI 6'!I16+'PI 7'!I16+'PI 8'!I16+'PI 9'!I16+'PI 10'!I16+'PI 11'!I16 -> 0 | I23: ='PI 1'!J16+'PI 2'!J16+'PI 3'!J16+'PI 4'!J16+'PI 5'!J16+'PI 6'!J16+'PI 7'!J16+'PI 8'!J16+'PI 9'!J16+'PI 10'!J16+'PI 11'!J16 -> 0 | J23: ='PI 1'!K16+'PI 2'!K16+'PI 3'!K16+'PI 4'!K16+'PI 5'!K16+'PI 6'!K16+'PI 7'!K16+'PI 8'!K16+'PI 9'!K16+'PI 10'!K16+'PI 11'!K16 -> 0 | K23: ='PI 1'!L16+'PI 2'!L16+'PI 3'!L16+'PI 4'!L16+'PI 5'!L16+'PI 6'!L16+'PI 7'!L16+'PI 8'!L16+'PI 9'!L16+'PI 10'!L16+'PI 11'!L16 -> 0 | L23: =SUM(G23:K23) -> 0 | N23: ='PI 1'!M16+'PI 2'!M16+'PI 3'!M16+'PI 4'!M16+'PI 5'!M16+'PI 6'!M16+'PI 7'!M16+'PI 8'!M16+'PI 9'!M16+'PI 10'!M16+'PI 11'!M16 -> 0
C24: Admin/Clerical | F24: ='PI 1'!G17+'PI 2'!G17+'PI 3'!G17+'PI 4'!G17+'PI 5'!G17+'PI 6'!G17+'PI 7'!G17+'PI 8'!G17+'PI 9'!G17+'PI 10'!G17+'PI 11'!G17 -> 0 | G24: ='PI 1'!H17+'PI 2'!H17+'PI 3'!H17+'PI 4'!H17+'PI 5'!H17+'PI 6'!H17+'PI 7'!H17+'PI 8'!H17+'PI 9'!H17+'PI 10'!H17+'PI 11'!H17 -> 0 | H24: ='PI 1'!I17+'PI 2'!I17+'PI 3'!I17+'PI 4'!I17+'PI 5'!I17+'PI 6'!I17+'PI 7'!I17+'PI 8'!I17+'PI 9'!I17+'PI 10'!I17+'PI 11'!I17 -> 0 | I24: ='PI 1'!J17+'PI 2'!J17+'PI 3'!J17+'PI 4'!J17+'PI 5'!J17+'PI 6'!J17+'PI 7'!J17+'PI 8'!J17+'PI 9'!J17+'PI 10'!J17+'PI 11'!J17 -> 0 | J24: ='PI 1'!K17+'PI 2'!K17+'PI 3'!K17+'PI 4'!K17+'PI 5'!K17+'PI 6'!K17+'PI 7'!K17+'PI 8'!K17+'PI 9'!K17+'PI 10'!K17+'PI 11'!K17 -> 0 | K24: ='PI 1'!L17+'PI 2'!L17+'PI 3'!L17+'PI 4'!L17+'PI 5'!L17+'PI 6'!L17+'PI 7'!L17+'PI 8'!L17+'PI 9'!L17+'PI 10'!L17+'PI 11'!L17 -> 0 | L24: =SUM(G24:K24) -> 0 | N24: ='PI 1'!M17+'PI 2'!M17+'PI 3'!M17+'PI 4'!M17+'PI 5'!M17+'PI 6'!M17+'PI 7'!M17+'PI 8'!M17+'PI 9'!M17+'PI 10'!M17+'PI 11'!M17 -> 0
C25: Graduate Students | F25: ='PI 1'!G18+'PI 2'!G18+'PI 3'!G18+'PI 4'!G18+'PI 5'!G18+'PI 6'!G18+'PI 7'!G18+'PI 8'!G18+'PI 9'!G18+'PI 10'!G18+'PI 11'!G18 -> 0 | G25: ='PI 1'!H18+'PI 2'!H18+'PI 3'!H18+'PI 4'!H18+'PI 5'!H18+'PI 6'!H18+'PI 7'!H18+'PI 8'!H18+'PI 9'!H18+'PI 10'!H18+'PI 11'!H18 -> 0 | H25: ='PI 1'!I18+'PI 2'!I18+'PI 3'!I18+'PI 4'!I18+'PI 5'!I18+'PI 6'!I18+'PI 7'!I18+'PI 8'!I18+'PI 9'!I18+'PI 10'!I18+'PI 11'!I18 -> 0 | I25: ='PI 1'!J18+'PI 2'!J18+'PI 3'!J18+'PI 4'!J18+'PI 5'!J18+'PI 6'!J18+'PI 7'!J18+'PI 8'!J18+'PI 9'!J18+'PI 10'!J18+'PI 11'!J18 -> 0 | J25: ='PI 1'!K18+'PI 2'!K18+'PI 3'!K18+'PI 4'!K18+'PI 5'!K18+'PI 6'!K18+'PI 7'!K18+'PI 8'!K18+'PI 9'!K18+'PI 10'!K18+'PI 11'!K18 -> 0 | K25: ='PI 1'!L18+'PI 2'!L18+'PI 3'!L18+'PI 4'!L18+'PI 5'!L18+'PI 6'!L18+'PI 7'!L18+'PI 8'!L18+'PI 9'!L18+'PI 10'!L18+'PI 11'!L18 -> 0 | L25: =SUM(G25:K25) -> 0 | N25: ='PI 1'!M18+'PI 2'!M18+'PI 3'!M18+'PI 4'!M18+'PI 5'!M18+'PI 6'!M18+'PI 7'!M18+'PI 8'!M18+'PI 9'!M18+'PI 10'!M18+'PI 11'!M18 -> 0
C26: Udergraduates | F26: ='PI 1'!G19+'PI 2'!G19+'PI 3'!G19+'PI 4'!G19+'PI 5'!G19+'PI 6'!G19+'PI 7'!G19+'PI 8'!G19+'PI 9'!G19+'PI 10'!G19+'PI 11'!G19 -> 0 | G26: ='PI 1'!H19+'PI 2'!H19+'PI 3'!H19+'PI 4'!H19+'PI 5'!H19+'PI 6'!H19+'PI 7'!H19+'PI 8'!H19+'PI 9'!H19+'PI 10'!H19+'PI 11'!H19 -> 0 | H26: ='PI 1'!I19+'PI 2'!I19+'PI 3'!I19+'PI 4'!I19+'PI 5'!I19+'PI 6'!I19+'PI 7'!I19+'PI 8'!I19+'PI 9'!I19+'PI 10'!I19+'PI 11'!I19 -> 0 | I26: ='PI 1'!J19+'PI 2'!J19+'PI 3'!J19+'PI 4'!J19+'PI 5'!J19+'PI 6'!J19+'PI 7'!J19+'PI 8'!J19+'PI 9'!J19+'PI 10'!J19+'PI 11'!J19 -> 0 | J26: ='PI 1'!K19+'PI 2'!K19+'PI 3'!K19+'PI 4'!K19+'PI 5'!K19+'PI 6'!K19+'PI 7'!K19+'PI 8'!K19+'PI 9'!K19+'PI 10'!K19+'PI 11'!K19 -> 0 | K26: ='PI 1'!L19+'PI 2'!L19+'PI 3'!L19+'PI 4'!L19+'PI 5'!L19+'PI 6'!L19+'PI 7'!L19+'PI 8'!L19+'PI 9'!L19+'PI 10'!L19+'PI 11'!L19 -> 0 | L26: =SUM(G26:K26) -> 0 | N26: ='PI 1'!M19+'PI 2'!M19+'PI 3'!M19+'PI 4'!M19+'PI 5'!M19+'PI 6'!M19+'PI 7'!M19+'PI 8'!M19+'PI 9'!M19+'PI 10'!M19+'PI 11'!M19 -> 0
C27: Temp | F27: ='PI 1'!G20+'PI 2'!G20+'PI 3'!G20+'PI 4'!G20+'PI 5'!G20+'PI 6'!G20+'PI 7'!G20+'PI 8'!G20+'PI 9'!G20+'PI 10'!G20+'PI 11'!G20 -> 0 | G27: ='PI 1'!H20+'PI 2'!H20+'PI 3'!H20+'PI 4'!H20+'PI 5'!H20+'PI 6'!H20+'PI 7'!H20+'PI 8'!H20+'PI 9'!H20+'PI 10'!H20+'PI 11'!H20 -> 0 | H27: ='PI 1'!I20+'PI 2'!I20+'PI 3'!I20+'PI 4'!I20+'PI 5'!I20+'PI 6'!I20+'PI 7'!I20+'PI 8'!I20+'PI 9'!I20+'PI 10'!I20+'PI 11'!I20 -> 0 | I27: ='PI 1'!J20+'PI 2'!J20+'PI 3'!J20+'PI 4'!J20+'PI 5'!J20+'PI 6'!J20+'PI 7'!J20+'PI 8'!J20+'PI 9'!J20+'PI 10'!J20+'PI 11'!J20 -> 0 | J27: ='PI 1'!K20+'PI 2'!K20+'PI 3'!K20+'PI 4'!K20+'PI 5'!K20+'PI 6'!K20+'PI 7'!K20+'PI 8'!K20+'PI 9'!K20+'PI 10'!K20+'PI 11'!K20 -> 0 | K27: ='PI 1'!L20+'PI 2'!L20+'PI 3'!L20+'PI 4'!L20+'PI 5'!L20+'PI 6'!L20+'PI 7'!L20+'PI 8'!L20+'PI 9'!L20+'PI 10'!L20+'PI 11'!L20 -> 0 | L27: =SUM(G27:K27) -> 0 | N27: ='PI 1'!M20+'PI 2'!M20+'PI 3'!M20+'PI 4'!M20+'PI 5'!M20+'PI 6'!M20+'PI 7'!M20+'PI 8'!M20+'PI 9'!M20+'PI 10'!M20+'PI 11'!M20 -> 0
C28: Total Salaries & Wages | G28: =SUM(G10:G27) -> 0 | H28: =SUM(H10:H27) -> 0 | I28: =SUM(I10:I27) -> 0 | J28: =SUM(J10:J27) -> 0 | K28: =SUM(K10:K27) -> 0 | L28: =SUM(L10:L27) -> 0 | N28: ='PI 1'!M21+'PI 2'!M21+'PI 3'!M21+'PI 4'!M21+'PI 5'!M21+'PI 6'!M21+'PI 7'!M21+'PI 8'!M21+'PI 9'!M21+'PI 10'!M21+'PI 11'!M21 -> 0
B30: 2. Fringe Benefits | F30: Rate
B31: A. Senior Personnel | C31: =C10 -> PI 1 | F31: 0.4275 | G31: ='PI 1'!H24++'PI 1'!H25+'PI 1'!H26+'PI 1'!H27 -> 0 | H31: ='PI 1'!I24++'PI 1'!I25+'PI 1'!I26+'PI 1'!I27 -> 0 | I31: ='PI 1'!J24++'PI 1'!J25+'PI 1'!J26+'PI 1'!J27 -> 0 | J31: ='PI 1'!K24++'PI 1'!K25+'PI 1'!K26+'PI 1'!K27 -> 0 | K31: ='PI 1'!L24++'PI 1'!L25+'PI 1'!L26+'PI 1'!L27 -> 0 | L31: =SUM(G31:K31) -> 0 | N31: ='PI 1'!M24+'PI 1'!M25+'PI 1'!M26+'PI 1'!M27 -> 0 | O31: Note for Senior Key Personnel
C32: =C11 -> PI 2 | F32: 0.4275 | G32: ='PI 2'!H24+'PI 2'!H25+'PI 2'!H26+'PI 2'!H27 -> 0 | H32: ='PI 2'!I24+'PI 2'!I25+'PI 2'!I26+'PI 2'!I27 -> 0 | I32: ='PI 2'!J24+'PI 2'!J25+'PI 2'!J26+'PI 2'!J27 -> 0 | J32: ='PI 2'!K24+'PI 2'!K25+'PI 2'!K26+'PI 2'!K27 -> 0 | K32: ='PI 2'!L24+'PI 2'!L25+'PI 2'!L26+'PI 2'!L27 -> 0 | L32: =SUM(G32:K32) -> 0 | N32: ='PI 2'!M24+'PI 2'!M25+'PI 2'!M26+'PI 2'!M27 -> 0 | O32: If Summer Salary, make sure
C33: =C12 -> PI 3 | F33: 0.4275 | G33: ='PI 3'!H24+'PI 3'!H25+'PI 3'!H26+'PI 3'!H27 -> 0 | H33: ='PI 3'!I24+'PI 3'!I25+'PI 3'!I26+'PI 3'!I27 -> 0 | I33: ='PI 3'!J24+'PI 3'!J25+'PI 3'!J26+'PI 3'!J27 -> 0 | J33: ='PI 3'!K24+'PI 3'!K25+'PI 3'!K26+'PI 3'!K27 -> 0 | K33: ='PI 3'!L24+'PI 3'!L25+'PI 3'!L26+'PI 3'!L27 -> 0 | L33: =SUM(G33:K33) -> 0 | N33: ='PI 3'!M24+'PI 3'!M25+'PI 3'!M26+'PI 3'!M27 -> 0 | O33: you change the fringe rate
C34: =C13 -> PI 4 | F34: 0.4275 | G34: ='PI 4'!H24+'PI 4'!H25+'PI 4'!H26+'PI 4'!H27 -> 0 | H34: ='PI 4'!I24+'PI 4'!I25+'PI 4'!I26+'PI 4'!I27 -> 0 | I34: ='PI 4'!J24+'PI 4'!J25+'PI 4'!J26+'PI 4'!J27 -> 0 | J34: ='PI 4'!K24+'PI 4'!K25+'PI 4'!K26+'PI 4'!K27 -> 0 | K34: ='PI 4'!L24+'PI 4'!L25+'PI 4'!L26+'PI 4'!L27 -> 0 | L34: =SUM(G34:K34) -> 0 | N34: ='PI 4'!M24+'PI 4'!M25+'PI 4'!M26+'PI 4'!M27 -> 0 | O34: to 24.50% in Cells F31 to F41
C35: =C14 -> PI 5 | F35: 0.4275 | G35: ='PI 5'!H24+'PI 5'!H25+'PI 5'!H26+'PI 5'!H27 -> 0 | H35: ='PI 5'!I24+'PI 5'!I25+'PI 5'!I26+'PI 5'!I27 -> 0 | I35: ='PI 5'!J24+'PI 5'!J25+'PI 5'!J26+'PI 5'!J27 -> 0 | J35: ='PI 5'!K24+'PI 5'!K25+'PI 5'!K26+'PI 5'!K27 -> 0 | K35: ='PI 5'!L24+'PI 5'!L25+'PI 5'!L26+'PI 5'!L27 -> 0 | L35: =SUM(G35:K35) -> 0 | N35: ='PI 5'!M24+'PI 5'!M25+'PI 5'!M26+'PI 5'!M27 -> 0
C36: =C15 -> PI 6 | F36: 0.4275 | G36: ='PI 6'!H24+'PI 6'!H25+'PI 6'!H26+'PI 6'!H27 -> 0 | H36: ='PI 6'!I24+'PI 6'!I25+'PI 6'!I26+'PI 6'!I27 -> 0 | I36: ='PI 6'!J24+'PI 6'!J25+'PI 6'!J26+'PI 6'!J27 -> 0 | J36: ='PI 6'!K24+'PI 6'!K25+'PI 6'!K26+'PI 6'!K27 -> 0 | K36: ='PI 6'!L24+'PI 6'!L25+'PI 6'!L26+'PI 6'!L27 -> 0 | L36: =SUM(G36:K36) -> 0 | N36: ='PI 6'!M24+'PI 6'!M25+'PI 6'!M26+'PI 6'!M27 -> 0 | O36: Summer Salary is only allowed if you are a 9 month faculty.
C37: =C16 -> PI 7 | F37: 0.4275 | G37: ='PI 7'!H24+'PI 7'!H25+'PI 7'!H26+'PI 7'!H27 -> 0 | H37: ='PI 7'!I24+'PI 7'!I25+'PI 7'!I26+'PI 7'!I27 -> 0 | I37: ='PI 7'!J24+'PI 7'!J25+'PI 7'!J26+'PI 7'!J27 -> 0 | J37: ='PI 7'!K24+'PI 7'!K25+'PI 7'!K26+'PI 7'!K27 -> 0 | K37: ='PI 7'!L24+'PI 7'!L25+'PI 7'!L26+'PI 7'!L27 -> 0 | L37: =SUM(G37:K37) -> 0 | N37: ='PI 7'!M24+'PI 7'!M25+'PI 7'!M26+'PI 7'!M27 -> 0
C38: =C17 -> PI 8 | F38: 0.4275 | G38: ='PI 8'!H24+'PI 8'!H25+'PI 8'!H26+'PI 8'!H27 -> 0 | H38: ='PI 8'!I24+'PI 8'!I25+'PI 8'!I26+'PI 8'!I27 -> 0 | I38: ='PI 8'!J24+'PI 8'!J25+'PI 8'!J26+'PI 8'!J27 -> 0 | J38: ='PI 8'!K24+'PI 8'!K25+'PI 8'!K26+'PI 8'!K27 -> 0 | K38: ='PI 8'!L24+'PI 8'!L25+'PI 8'!L26+'PI 8'!L27 -> 0 | L38: =SUM(G38:K38) -> 0 | N38: ='PI 8'!M24+'PI 8'!M25+'PI 8'!M26+'PI 8'!M27 -> 0
C39: =C18 -> PI 9 | F39: 0.4275 | G39: ='PI 9'!H24+'PI 9'!H25+'PI 9'!H26+'PI 9'!H27 -> 0 | H39: ='PI 9'!I24+'PI 9'!I25+'PI 9'!I26+'PI 9'!I27 -> 0 | I39: ='PI 9'!J24+'PI 9'!J25+'PI 9'!J26+'PI 9'!J27 -> 0 | J39: ='PI 9'!K24+'PI 9'!K25+'PI 9'!K26+'PI 9'!K27 -> 0 | K39: ='PI 9'!L24+'PI 9'!L25+'PI 9'!L26+'PI 9'!L27 -> 0 | L39: =SUM(G39:K39) -> 0 | N39: ='PI 9'!M24+'PI 9'!M25+'PI 9'!M26+'PI 9'!M27 -> 0
C40: =C19 -> PI 10 | F40: 0.4275 | G40: ='PI 10'!H24+'PI 10'!H25+'PI 10'!H26+'PI 10'!H27 -> 0 | H40: ='PI 10'!I24+'PI 10'!I25+'PI 10'!I26+'PI 10'!I27 -> 0 | I40: ='PI 10'!J24+'PI 10'!J25+'PI 10'!J26+'PI 10'!J27 -> 0 | J40: ='PI 10'!K24+'PI 10'!K25+'PI 10'!K26+'PI 10'!K27 -> 0 | K40: ='PI 10'!L24+'PI 10'!L25+'PI 10'!L26+'PI 10'!L27 -> 0 | L40: =SUM(G40:K40) -> 0 | N40: ='PI 10'!M24+'PI 10'!M25+'PI 10'!M26+'PI 10'!M27 -> 0
C41: =C20 -> PI 11 | F41: 0.4275 | G41: ='PI 11'!H24+'PI 11'!H25+'PI 11'!H26+'PI 11'!H27 -> 0 | H41: ='PI 11'!I24+'PI 11'!I25+'PI 11'!I26+'PI 11'!I27 -> 0 | I41: ='PI 11'!J24+'PI 11'!J25+'PI 11'!J26+'PI 11'!J27 -> 0 | J41: ='PI 11'!K24+'PI 11'!K25+'PI 11'!K26+'PI 11'!K27 -> 0 | K41: ='PI 11'!L24+'PI 11'!L25+'PI 11'!L26+'PI 11'!L27 -> 0 | L41: =SUM(G41:K41) -> 0 | N41: ='PI 11'!M24+'PI 11'!M25+'PI 11'!M26+'PI 11'!M27 -> 0
B43: B. Other Personnel | C43: =C22 -> PostDoctoral Associates | F43: 0.4275 | G43: ='PI 1'!H29+'PI 2'!H29+'PI 3'!H29+'PI 4'!H29+'PI 5'!H29+'PI 6'!H29+'PI 7'!H29+'PI 8'!H29+'PI 9'!H29+'PI 10'!H29+'PI 11'!H29 -> 0 | H43: ='PI 1'!I29+'PI 2'!I29+'PI 3'!I29+'PI 4'!I29+'PI 5'!I29+'PI 6'!I29+'PI 7'!I29+'PI 8'!I29+'PI 9'!I29+'PI 10'!I29+'PI 11'!I29 -> 0 | I43: ='PI 1'!J29+'PI 2'!J29+'PI 3'!J29+'PI 4'!J29+'PI 5'!J29+'PI 6'!J29+'PI 7'!J29+'PI 8'!J29+'PI 9'!J29+'PI 10'!J29+'PI 11'!J29 -> 0 | J43: ='PI 1'!K29+'PI 2'!K29+'PI 3'!K29+'PI 4'!K29+'PI 5'!K29+'PI 6'!K29+'PI 7'!K29+'PI 8'!K29+'PI 9'!K29+'PI 10'!K29+'PI 11'!K29 -> 0 | K43: ='PI 1'!L29+'PI 2'!L29+'PI 3'!L29+'PI 4'!L29+'PI 5'!L29+'PI 6'!L29+'PI 7'!L29+'PI 8'!L29+'PI 9'!L29+'PI 10'!L29+'PI 11'!L29 -> 0 | L43: =SUM(G43:K43) -> 0 | N43: ='PI 1'!M29+'PI 2'!M29+'PI 3'!M29+'PI 4'!M29+'PI 5'!M29+'PI 6'!M29+'PI 7'!M29+'PI 8'!M29+'PI 9'!M29+'PI 10'!M29+'PI 11'!M29 -> 0
...

Sheet PI 1
D1: Sponsor Name: | K1: Indirect Rate: | L1: =Cumulative!K1 -> 0.4165
D2: Start Date:
D3: End Date:
D4: Principal Investigator:
D5: Project Title:
H7: Year 1 | I7: Year 2 | J7: Year 3 | K7: Year 4 | L7: Year 5 | M7: Total
B8: A. Personnel (Salaries, Wages)
C9: 1. Senior Key Personnel | E9: Academic or Calendar Months | F9: Base Pay | G9: FTE
C10: A. Senior Personnel | M10: =SUM(H10:L10) -> 0 | N10: Note for Senior Key Personnel
M11: =SUM(H11:L11) -> 0 | N11: If Summer Salary, make sure
M12: =SUM(H12:L12) -> 0 | N12: you change the fringe rate
M13: =SUM(H13:L13) -> 0 | N13: to24.50% in Cells G24-G27
B14: B. Other Personnel (Salaries, Wages) | F14: No. of each
C15: B. Other Personnel | D15: PostDoctoral Associates | M15: =SUM(H15:L15) -> 0
D16: Other Professionals (Techs, etc.) | M16: =SUM(H16:L16) -> 0
D17: Admin/Clerical | M17: =SUM(H17:L17) -> 0
D18: Graduate Students | M18: =SUM(H18:L18) -> 0
D19: Undergraduates | M19: =SUM(H19:L19) -> 0
D20: Temp (Employee Type?) | M20: =SUM(H20:L20) -> 0
D21: Total Salaries & Wages | H21: =SUM(H10:H20) -> 0 | I21: =SUM(I10:I20) -> 0 | J21: =SUM(J10:J20) -> 0 | K21: =SUM(K10:K20) -> 0 | L21: =SUM(L10:L20) -> 0 | M21: =SUM(M10:M20) -> 0
C23: 2. Fringe Benefits | G23: Rate | N23: PLEASE DO NOT CHANGE THE GRAYED OUT FORMULAS
C24: A. Senior Personnel | D24: =D10 -> 0 | G24: 0.4275 | H24: =ROUND(H10*$G$24,0) -> 0 | I24: =ROUND(I10*$G$24,0) -> 0 | J24: =ROUND(J10*$G$24,0) -> 0 | K24: =ROUND(K10*$G$24,0) -> 0 | L24: =ROUND(L10*$G$24,0) -> 0 | M24: =SUM(H24:L24) -> 0 | N24: Note for Senior Key Personnel
D25: =D11 -> 0 | G25: 0.4275 | H25: =ROUND(H11*$G$25,0) -> 0 | I25: =ROUND(I11*$G$25,0) -> 0 | J25: =ROUND(J11*$G$25,0) -> 0 | K25: =ROUND(K11*$G$25,0) -> 0 | L25: =ROUND(L11*$G$25,0) -> 0 | M25: =SUM(H25:L25) -> 0 | N25: If Summer Salary, make sure
D26: =D12 -> 0 | G26: 0.4275 | H26: =ROUND(H12*$G$26,0) -> 0 | I26: =I12*G26 -> 0 | J26: =J12*G26 -> 0 | K26: =K12*G26 -> 0 | L26: =L12*G26 -> 0 | M26: =SUM(H26:L26) -> 0 | N26: you change the fringe rate
D27: =D13 -> 0 | G27: 0.4275 | H27: =ROUND(H13*$G$27,0) -> 0 | I27: =ROUND(I13*$G$27,0) -> 0 | J27: =ROUND(J13*$G$27,0) -> 0 | K27: =ROUND(K13*$G$27,0) -> 0 | L27: =ROUND(L13*$G$27,0) -> 0 | M27: =SUM(H27:L27) -> 0 | N27: to 24.5% in Cells G24-G27
C29: B. Other Personnel | D29: =D15 -> PostDoctoral Associates | G29: 0.4275 | H29: =ROUND(H15*$G$29,0) -> 0 | I29: =ROUND(I15*$G$29,0) -> 0 | J29: =ROUND(J15*$G$29,0) -> 0 | K29: =ROUND(K15*$G$29,0) -> 0 | L29: =ROUND(L15*$G$29,0) -> 0 | M29: =SUM(H29:L29) -> 0
D30: =D16 -> Other Professionals (Techs, etc.) | G30: 0.4275 | H30: =ROUND(H16*$G$30,0) -> 0 | I30: =ROUND(I16*$G$30,0) -> 0 | J30: =ROUND(J16*$G$30,0) -> 0 | K30: =ROUND(K16*$G$30,0) -> 0 | L30: =ROUND(L16*$G$30,0) -> 0 | M30: =SUM(H30:L30) -> 0
D31: =D17 -> Admin/Clerical | G31: 0.4275 | H31: =ROUND(H17*$G$31,0) -> 0 | I31: =ROUND(I17*$G$31,0) -> 0 | J31: =ROUND(J17*$G$31,0) -> 0 | K31: =ROUND(K17*$G$31,0) -> 0 | L31: =ROUND(L17*$G$31,0) -> 0 | M31: =SUM(H31:L31) -> 0
D32: =D18 -> Graduate Students | G32: 0.26 | H32: =ROUND(H18*$G$32,0) -> 0 | I32: =ROUND(I18*$G$32,0) -> 0 | J32: =ROUND(J18*$G$32,0) -> 0 | K32: =ROUND(K18*$G$32,0) -> 0 | L32: =ROUND(L18*$G$32,0) -> 0 | M32: =SUM(H32:L32) -> 0
D33: =D19 -> Undergraduates | G33: 0.015 | H33: =ROUND(H19*$G$33,0) -> 0 | I33: =ROUND(I19*$G$33,0) -> 0 | J33: =ROUND(J19*$G$33,0) -> 0 | K33: =ROUND(K19*$G$33,0) -> 0 | L33: =ROUND(L19*$G$33,0) -> 0 | M33: =SUM(H33:L33) -> 0
D34: =D20 -> Temp (Employee Type?) | G34: 0.245 | H34: =ROUND(H20*$G$34,0) -> 0 | I34: =ROUND(I20*$G$34,0) -> 0 | J34: =ROUND(J20*$G$34,0) -> 0 | K34: =ROUND(K20*$G$34,0) -> 0 | L34: =ROUND(L20*$G$34,0) -> 0 | M34: =SUM(H34:L34) -> 0
D35: Total Fringe Benefits | H35: =SUM(H24:H34) -> 0 | I35: =SUM(I24:I34) -> 0 | J35: =SUM(J24:J34) -> 0 | K35: =SUM(K24:K34) -> 0 | L35: =SUM(L24:L34) -> 0 | M35: =SUM(M24:M34) -> 0
D37: Total Personnel | H37: =SUM(H21,H35) -> 0 | I37: =SUM(I21,I35) -> 0 | J37: =SUM(J21,J35) -> 0 | K37: =SUM(K21,K35) -> 0 | L37: =SUM(L21,L35) -> 0 | M37: =SUM(M21,M35) -> 0
B39: B. Capitalized Equipment ($5K or Greater)
C40: 1 | M40: =SUM(H40:L40) -> 0
C41: 2 | M41: =SUM(H41:L41) -> 0
C42: 3 | M42: =SUM(H42:L42) -> 0
C43: 4 | M43: =SUM(H43:L43) -> 0
C44: 5 | M44: =SUM(H44:L44) -> 0
D45: Total Equipment | H45: =SUM(H40:H44) -> 0 | I45: =SUM(I40:I44) -> 0 | J45: =SUM(J40:J44) -> 0 | K45: =SUM(K40:K44) -> 0 | L45: =SUM(L40:L44) -> 0 | M45: =SUM(M40:M44) -> 0
...

Sheet PI 2
D1: Sponsor Name: | K1: Indirect Rate: | L1: ='PI 1'!L1 -> 0.4165 | M1: Do not change
D2: Start Date:
D3: End Date:
D4: Principal Investigator:
D5: Project Title:
H7: Year 1 | I7: Year 2 | J7: Year 3 | K7: Year 4 | L7: Year 5 | M7: Total
B8: A. Personnel (Salaries, Wages, & Fringe)
C9: 1. Senior Key Personnel | E9: Academic or Calendar Months | F9: Base Pay | G9: FTE
C10: A. Senior Personnel | M10: =SUM(H10:L10) -> 0 | N10: Note for Senior Key Personnel
M11: =SUM(H11:L11) -> 0 | N11: If Summer Salary, make sure
M12: =SUM(H12:L12) -> 0 | N12: you change the fringe rate
M13: =SUM(H13:L13) -> 0 | N13: to 24.50% in Cells G24-G27
G14: No. of Each
C15: B. Other Personnel | D15: PostDoctoral Associates | M15: =SUM(H15:L15) -> 0
D16: Other Professionals (Techs, etc.) | M16: =SUM(H16:L16) -> 0
D17: Admin/Clerical | M17: =SUM(H17:L17) -> 0
D18: Graduate Students | M18: =SUM(H18:L18) -> 0
D19: Undergraduates | M19: =SUM(H19:L19) -> 0
D20: Temp (Employee Type?) | M20: =SUM(H20:L20) -> 0
D21: Total Salaries & Wages | H21: =SUM(H10:H20) -> 0 | I21: =SUM(I10:I20) -> 0 | J21: =SUM(J10:J20) -> 0 | K21: =SUM(K10:K20) -> 0 | L21: =SUM(L10:L20) -> 0 | M21: =SUM(M10:M20) -> 0
C23: 2. Fringe Benefits | G23: Rate | N23: PLEASE DO NOT CHANGE THE GRAYED OUT FORMULAS
C24: A. Senior Personnel | D24: =D10 -> 0 | G24: 0.4275 | H24: =ROUND(H10*$G$24,0) -> 0 | I24: =ROUND(I10*$G$24,0) -> 0 | J24: =ROUND(J10*$G$24,0) -> 0 | K24: =ROUND(K10*$G$24,0) -> 0 | L24: =ROUND(L10*$G$24,0) -> 0 | M24: =SUM(H24:L24) -> 0 | N24: Note for Senior Key Personnel
D25: =D11 -> 0 | G25: 0.4275 | H25: =ROUND(H11*$G$25,0) -> 0 | I25: =ROUND(I11*$G$25,0) -> 0 | J25: =ROUND(J11*$G$25,0) -> 0 | K25: =ROUND(K11*$G$25,0) -> 0 | L25: =ROUND(L11*$G$25,0) -> 0 | M25: =SUM(H25:L25) -> 0 | N25: If Summer Salary, make sure
D26: =D12 -> 0 | G26: 0.4275 | H26: =ROUND(H12*$G$26,0) -> 0 | I26: =I12*G26 -> 0 | J26: =J12*G26 -> 0 | K26: =K12*G26 -> 0 | L26: =L12*G26 -> 0 | M26: =SUM(H26:L26) -> 0 | N26: you change the fringe rate
D27: =D13 -> 0 | G27: 0.4275 | H27: =ROUND(H13*$G$27,0) -> 0 | I27: =ROUND(I13*$G$27,0) -> 0 | J27: =ROUND(J13*$G$27,0) -> 0 | K27: =ROUND(K13*$G$27,0) -> 0 | L27: =ROUND(L13*$G$27,0) -> 0 | M27: =SUM(H27:L27) -> 0 | N27: to 24.50% in Cells G24-G27
C29: B. Other Personnel | D29: =D15 -> PostDoctoral Associates | G29: 0.4275 | H29: =ROUND(H15*$G$29,0) -> 0 | I29: =ROUND(I15*$G$29,0) -> 0 | J29: =ROUND(J15*$G$29,0) -> 0 | K29: =ROUND(K15*$G$29,0) -> 0 | L29: =ROUND(L15*$G$29,0) -> 0 | M29: =SUM(H29:L29) -> 0
D30: =D16 -> Other Professionals (Techs, etc.) | G30: 0.4275 | H30: =ROUND(H16*$G$30,0) -> 0 | I30: =ROUND(I16*$G$30,0) -> 0 | J30: =ROUND(J16*$G$30,0) -> 0 | K30: =ROUND(K16*$G$30,0) -> 0 | L30: =ROUND(L16*$G$30,0) -> 0 | M30: =SUM(H30:L30) -> 0
D31: =D17 -> Admin/Clerical | G31: 0.4275 | H31: =ROUND(H17*$G$31,0) -> 0 | I31: =ROUND(I17*$G$31,0) -> 0 | J31: =ROUND(J17*$G$31,0) -> 0 | K31: =ROUND(K17*$G$31,0) -> 0 | L31: =ROUND(L17*$G$31,0) -> 0 | M31: =SUM(H31:L31) -> 0
D32: =D18 -> Graduate Students | G32: 0.26 | H32: =ROUND(H18*$G$32,0) -> 0 | I32: =ROUND(I18*$G$32,0) -> 0 | J32: =ROUND(J18*$G$32,0) -> 0 | K32: =ROUND(K18*$G$32,0) -> 0 | L32: =ROUND(L18*$G$32,0) -> 0 | M32: =SUM(H32:L32) -> 0
D33: =D19 -> Undergraduates | G33: 0.015 | H33: =ROUND(H19*$G$33,0) -> 0 | I33: =ROUND(I19*$G$33,0) -> 0 | J33: =ROUND(J19*$G$33,0) -> 0 | K33: =ROUND(K19*$G$33,0) -> 0 | L33: =ROUND(L19*$G$33,0) -> 0 | M33: =SUM(H33:L33) -> 0
D34: =D20 -> Temp (Employee Type?) | G34: 0.245 | H34: =ROUND(H20*$G$34,0) -> 0 | I34: =ROUND(I20*$G$34,0) -> 0 | J34: =ROUND(J20*$G$34,0) -> 0 | K34: =ROUND(K20*$G$34,0) -> 0 | L34: =ROUND(L20*$G$34,0) -> 0 | M34: =SUM(H34:L34) -> 0
D35: Total Fringe Benefits | H35: =SUM(H24:H34) -> 0 | I35: =SUM(I24:I34) -> 0 | J35: =SUM(J24:J34) -> 0 | K35: =SUM(K24:K34) -> 0 | L35: =SUM(L24:L34) -> 0 | M35: =SUM(M24:M34) -> 0
D37: Total Personnel | H37: =SUM(H21,H35) -> 0 | I37: =SUM(I21,I35) -> 0 | J37: =SUM(J21,J35) -> 0 | K37: =SUM(K21,K35) -> 0 | L37: =SUM(L21,L35) -> 0 | M37: =SUM(M21,M35) -> 0
B39: B. Capitalized Equipment ($5K or Greater)
C40: 1 | M40: =SUM(H40:L40) -> 0
C41: 2 | M41: =SUM(H41:L41) -> 0
C42: 3 | M42: =SUM(H42:L42) -> 0
C43: 4 | M43: =SUM(H43:L43) -> 0
C44: 5 | M44: =SUM(H44:L44) -> 0
D45: Total Equipment | H45: =SUM(H40:H44) -> 0 | I45: =SUM(I40:I44) -> 0 | J45: =SUM(J40:J44) -> 0 | K45: =SUM(K40:K44) -> 0 | L45: =SUM(L40:L44) -> 0 | M45: =SUM(M40:M44) -> 0
...

Sheet PI 3
D1: Sponsor Name: | K1: Indirect Rate: | L1: ='PI 1'!L1 -> 0.4165 | M1: Do not change
D2: Start Date:
D3: End Date:
D4: Principal Investigator:
D5: Project Title:
H7: Year 1 | I7: Year 2 | J7: Year 3 | K7: Year 4 | L7: Year 5 | M7: Total
B8: A. Personnel (Salaries, Wages, & Fringe)
C9: 1. Senior Key Personnel | E9: Academic or Calendar Months | F9: Base Pay | G9: FTE
C10: A. Senior Personnel | M10: =SUM(H10:L10) -> 0 | N10: Note for Senior Key Personnel
M11: =SUM(H11:L11) -> 0 | N11: If Summer Salary, make sure
M12: =SUM(H12:L12) -> 0 | N12: you change the fringe rate
M13: =SUM(H13:L13) -> 0 | N13: to 24.50% in Cells G24-G27
G14: No. of Each
C15: B. Other Personnel | D15: PostDoctoral Associates | M15: =SUM(H15:L15) -> 0
D16: Other Professionals (Techs, etc.) | M16: =SUM(H16:L16) -> 0
D17: Admin/Clerical | M17: =SUM(H17:L17) -> 0
D18: Graduate Students | M18: =SUM(H18:L18) -> 0
D19: Udergraduates | M19: =SUM(H19:L19) -> 0
D20: Temp | M20: =SUM(H20:L20) -> 0
D21: Total Salaries & Wages | H21: =SUM(H10:H20) -> 0 | I21: =SUM(I10:I20) -> 0 | J21: =SUM(J10:J20) -> 0 | K21: =SUM(K10:K20) -> 0 | L21: =SUM(L10:L20) -> 0 | M21: =SUM(M10:M20) -> 0
C23: 2. Fringe Benefits | G23: Rate | N23: PLEASE DO NOT CHANGE THE GRAYED OUT FORMULAS
C24: A. Senior Personnel | D24: =D10 -> 0 | G24: 0.4275 | H24: =ROUND(H10*$G$24,0) -> 0 | I24: =ROUND(I10*$G$24,0) -> 0 | J24: =ROUND(J10*$G$24,0) -> 0 | K24: =ROUND(K10*$G$24,0) -> 0 | L24: =ROUND(L10*$G$24,0) -> 0 | M24: =SUM(H24:L24) -> 0 | N24: Note for Senior Key Personnel
D25: =D11 -> 0 | G25: 0.4275 | H25: =ROUND(H11*$G$25,0) -> 0 | I25: =ROUND(I11*$G$25,0) -> 0 | J25: =ROUND(J11*$G$25,0) -> 0 | K25: =ROUND(K11*$G$25,0) -> 0 | L25: =ROUND(L11*$G$25,0) -> 0 | M25: =SUM(H25:L25) -> 0 | N25: If Summer Salary, make sure
D26: =D12 -> 0 | G26: 0.4275 | H26: =ROUND(H12*$G$26,0) -> 0 | I26: =I12*G26 -> 0 | J26: =J12*G26 -> 0 | K26: =K12*G26 -> 0 | L26: =L12*G26 -> 0 | M26: =SUM(H26:L26) -> 0 | N26: you change the fringe rate
D27: =D13 -> 0 | G27: 0.4275 | H27: =ROUND(H13*$G$27,0) -> 0 | I27: =ROUND(I13*$G$27,0) -> 0 | J27: =ROUND(J13*$G$27,0) -> 0 | K27: =ROUND(K13*$G$27,0) -> 0 | L27: =ROUND(L13*$G$27,0) -> 0 | M27: =SUM(H27:L27) -> 0 | N27: to 24.50% in Cells G24-G27
C29: B. Other Personnel | D29: =D15 -> PostDoctoral Associates | G29: 0.4275 | H29: =ROUND(H15*$G$29,0) -> 0 | I29: =ROUND(I15*$G$29,0) -> 0 | J29: =ROUND(J15*$G$29,0) -> 0 | K29: =ROUND(K15*$G$29,0) -> 0 | L29: =ROUND(L15*$G$29,0) -> 0 | M29: =SUM(H29:L29) -> 0
D30: =D16 -> Other Professionals (Techs, etc.) | G30: 0.4275 | H30: =ROUND(H16*$G$30,0) -> 0 | I30: =ROUND(I16*$G$30,0) -> 0 | J30: =ROUND(J16*$G$30,0) -> 0 | K30: =ROUND(K16*$G$30,0) -> 0 | L30: =ROUND(L16*$G$30,0) -> 0 | M30: =SUM(H30:L30) -> 0
D31: =D17 -> Admin/Clerical | G31: 0.4275 | H31: =ROUND(H17*$G$31,0) -> 0 | I31: =ROUND(I17*$G$31,0) -> 0 | J31: =ROUND(J17*$G$31,0) -> 0 | K31: =ROUND(K17*$G$31,0) -> 0 | L31: =ROUND(L17*$G$31,0) -> 0 | M31: =SUM(H31:L31) -> 0
D32: =D18 -> Graduate Students | G32: 0.26 | H32: =ROUND(H18*$G$32,0) -> 0 | I32: =ROUND(I18*$G$32,0) -> 0 | J32: =ROUND(J18*$G$32,0) -> 0 | K32: =ROUND(K18*$G$32,0) -> 0 | L32: =ROUND(L18*$G$32,0) -> 0 | M32: =SUM(H32:L32) -> 0
D33: =D19 -> Udergraduates | G33: 0.015 | H33: =ROUND(H19*$G$33,0) -> 0 | I33: =ROUND(I19*$G$33,0) -> 0 | J33: =ROUND(J19*$G$33,0) -> 0 | K33: =ROUND(K19*$G$33,0) -> 0 | L33: =ROUND(L19*$G$33,0) -> 0 | M33: =SUM(H33:L33) -> 0
D34: =D20 -> Temp | G34: 0.245 | H34: =ROUND(H20*$G$34,0) -> 0 | I34: =ROUND(I20*$G$34,0) -> 0 | J34: =ROUND(J20*$G$34,0) -> 0 | K34: =ROUND(K20*$G$34,0) -> 0 | L34: =ROUND(L20*$G$34,0) -> 0 | M34: =SUM(H34:L34) -> 0
D35: Total Fringe Benefits | H35: =SUM(H24:H34) -> 0 | I35: =SUM(I24:I34) -> 0 | J35: =SUM(J24:J34) -> 0 | K35: =SUM(K24:K34) -> 0 | L35: =SUM(L24:L34) -> 0 | M35: =SUM(M24:M34) -> 0
D37: Total Personnel | H37: =SUM(H21,H35) -> 0 | I37: =SUM(I21,I35) -> 0 | J37: =SUM(J21,J35) -> 0 | K37: =SUM(K21,K35) -> 0 | L37: =SUM(L21,L35) -> 0 | M37: =SUM(M21,M35) -> 0
B39: B. Capitalized Equipment ($5K or Greater)
C40: 1 | M40: =SUM(H40:L40) -> 0
C41: 2 | M41: =SUM(H41:L41) -> 0
C42: 3 | M42: =SUM(H42:L42) -> 0
C43: 4 | M43: =SUM(H43:L43) -> 0
C44: 5 | M44: =SUM(H44:L44) -> 0
D45: Total Equipment | H45: =SUM(H40:H44) -> 0 | I45: =SUM(I40:I44) -> 0 | J45: =SUM(J40:J44) -> 0 | K45: =SUM(K40:K44) -> 0 | L45: =SUM(L40:L44) -> 0 | M45: =SUM(M40:M44) -> 0
...

Sheet PI 4
D1: Sponsor Name: | K1: Indirect Rate: | L1: ='PI 1'!L1 -> 0.4165 | M1: Do not change
D2: Start Date:
D3: End Date:
D4: Principal Investigator:
D5: Project Title:
H7: Year 1 | I7: Year 2 | J7: Year 3 | K7: Year 4 | L7: Year 5 | M7: Total
B8: A. Personnel (Salaries, Wages, & Fringe)
C9: 1. Senior Key Personnel | E9: Academic or Calendar Months | F9: Base Pay | G9: FTE
C10: A. Senior Personnel | M10: =SUM(H10:L10) -> 0 | N10: Note for Senior Key Personnel
M11: =SUM(H11:L11) -> 0 | N11: If Summer Salary, make sure
M12: =SUM(H12:L12) -> 0 | N12: you change the fringe rate
M13: =SUM(H13:L13) -> 0 | N13: to 24.50% in Cells G24-G27
G14: No. of Each
C15: B. Other Personnel | D15: PostDoctoral Associates | M15: =SUM(H15:L15) -> 0
D16: Other Professionals (Techs, etc.) | M16: =SUM(H16:L16) -> 0
D17: Admin/Clerical | M17: =SUM(H17:L17) -> 0
D18: Graduate Students | M18: =SUM(H18:L18) -> 0
D19: Udergraduates | M19: =SUM(H19:L19) -> 0
D20: Temp | M20: =SUM(H20:L20) -> 0
D21: Total Salaries & Wages | H21: =SUM(H10:H20) -> 0 | I21: =SUM(I10:I20) -> 0 | J21: =SUM(J10:J20) -> 0 | K21: =SUM(K10:K20) -> 0 | L21: =SUM(L10:L20) -> 0 | M21: =SUM(M10:M20) -> 0
C23: 2. Fringe Benefits | G23: Rate | N23: PLEASE DO NOT CHANGE THE GRAYED OUT FORMULAS
C24: A. Senior Personnel | D24: =D10 -> 0 | G24: 0.4275 | H24: =ROUND(H10*$G$24,0) -> 0 | I24: =ROUND(I10*$G$24,0) -> 0 | J24: =ROUND(J10*$G$24,0) -> 0 | K24: =ROUND(K10*$G$24,0) -> 0 | L24: =ROUND(L10*$G$24,0) -> 0 | M24: =SUM(H24:L24) -> 0 | N24: Note for Senior Key Personnel
D25: =D11 -> 0 | G25: 0.4275 | H25: =ROUND(H11*$G$25,0) -> 0 | I25: =ROUND(I11*$G$25,0) -> 0 | J25: =ROUND(J11*$G$25,0) -> 0 | K25: =ROUND(K11*$G$25,0) -> 0 | L25: =ROUND(L11*$G$25,0) -> 0 | M25: =SUM(H25:L25) -> 0 | N25: If Summer Salary, make sure
D26: =D12 -> 0 | G26: 0.4275 | H26: =ROUND(H12*$G$26,0) -> 0 | I26: =I12*G26 -> 0 | J26: =J12*G26 -> 0 | K26: =K12*G26 -> 0 | L26: =L12*G26 -> 0 | M26: =SUM(H26:L26) -> 0 | N26: you change the fringe rate
D27: =D13 -> 0 | G27: 0.4275 | H27: =ROUND(H13*$G$27,0) -> 0 | I27: =ROUND(I13*$G$27,0) -> 0 | J27: =ROUND(J13*$G$27,0) -> 0 | K27: =ROUND(K13*$G$27,0) -> 0 | L27: =ROUND(L13*$G$27,0) -> 0 | M27: =SUM(H27:L27) -> 0 | N27: to 24.50% in Cells G24-G27
C29: B. Other Personnel | D29: =D15 -> PostDoctoral Associates | G29: 0.4275 | H29: =ROUND(H15*$G$29,0) -> 0 | I29: =ROUND(I15*$G$29,0) -> 0 | J29: =ROUND(J15*$G$29,0) -> 0 | K29: =ROUND(K15*$G$29,0) -> 0 | L29: =ROUND(L15*$G$29,0) -> 0 | M29: =SUM(H29:L29) -> 0
D30: =D16 -> Other Professionals (Techs, etc.) | G30: 0.4275 | H30: =ROUND(H16*$G$30,0) -> 0 | I30: =ROUND(I16*$G$30,0) -> 0 | J30: =ROUND(J16*$G$30,0) -> 0 | K30: =ROUND(K16*$G$30,0) -> 0 | L30: =ROUND(L16*$G$30,0) -> 0 | M30: =SUM(H30:L30) -> 0
D31: =D17 -> Admin/Clerical | G31: 0.4275 | H31: =ROUND(H17*$G$31,0) -> 0 | I31: =ROUND(I17*$G$31,0) -> 0 | J31: =ROUND(J17*$G$31,0) -> 0 | K31: =ROUND(K17*$G$31,0) -> 0 | L31: =ROUND(L17*$G$31,0) -> 0 | M31: =SUM(H31:L31) -> 0
D32: =D18 -> Graduate Students | G32: 0.26 | H32: =ROUND(H18*$G$32,0) -> 0 | I32: =ROUND(I18*$G$32,0) -> 0 | J32: =ROUND(J18*$G$32,0) -> 0 | K32: =ROUND(K18*$G$32,0) -> 0 | L32: =ROUND(L18*$G$32,0) -> 0 | M32: =SUM(H32:L32) -> 0
D33: =D19 -> Udergraduates | G33: 0.015 | H33: =ROUND(H19*$G$33,0) -> 0 | I33: =ROUND(I19*$G$33,0) -> 0 | J33: =ROUND(J19*$G$33,0) -> 0 | K33: =ROUND(K19*$G$33,0) -> 0 | L33: =ROUND(L19*$G$33,0) -> 0 | M33: =SUM(H33:L33) -> 0
D34: =D20 -> Temp | G34: 0.245 | H34: =ROUND(H20*$G$34,0) -> 0 | I34: =ROUND(I20*$G$34,0) -> 0 | J34: =ROUND(J20*$G$34,0) -> 0 | K34: =ROUND(K20*$G$34,0) -> 0 | L34: =ROUND(L20*$G$34,0) -> 0 | M34: =SUM(H34:L34) -> 0
D35: Total Fringe Benefits | H35: =SUM(H24:H34) -> 0 | I35: =SUM(I24:I34) -> 0 | J35: =SUM(J24:J34) -> 0 | K35: =SUM(K24:K34) -> 0 | L35: =SUM(L24:L34) -> 0 | M35: =SUM(M24:M34) -> 0
D37: Total Personnel | H37: =SUM(H21,H35) -> 0 | I37: =SUM(I21,I35) -> 0 | J37: =SUM(J21,J35) -> 0 | K37: =SUM(K21,K35) -> 0 | L37: =SUM(L21,L35) -> 0 | M37: =SUM(M21,M35) -> 0
B39: B. Capitalized Equipment ($5K or Greater)
C40: 1 | M40: =SUM(H40:L40) -> 0
C41: 2 | M41: =SUM(H41:L41) -> 0
C42: 3 | M42: =SUM(H42:L42) -> 0
C43: 4 | M43: =SUM(H43:L43) -> 0
C44: 5 | M44: =SUM(H44:L44) -> 0
D45: Total Equipment | H45: =SUM(H40:H44) -> 0 | I45: =SUM(I40:I44) -> 0 | J45: =SUM(J40:J44) -> 0 | K45: =SUM(K40:K44) -> 0 | L45: =SUM(L40:L44) -> 0 | M45: =SUM(M40:M44) -> 0
...

Sheet PI 5
D1: Sponsor Name: | K1: Indirect Rate: | L1: ='PI 1'!L1 -> 0.4165 | M1: Do not change
D2: Start Date:
D3: End Date:
D4: Principal Investigator:
D5: Project Title:
H7: Year 1 | I7: Year 2 | J7: Year 3 | K7: Year 4 | L7: Year 5 | M7: Total
B8: A. Personnel (Salaries, Wages, & Fringe)
C9: 1. Senior Key Personnel | E9: Academic or Calendar Months | F9: Base Pay | G9: FTE
C10: A. Senior Personnel | M10: =SUM(H10:L10) -> 0 | N10: Note for Senior Key Personnel
M11: =SUM(H11:L11) -> 0 | N11: If Summer Salary, make sure
M12: =SUM(H12:L12) -> 0 | N12: you change the fringe rate
M13: =SUM(H13:L13) -> 0 | N13: to 24.50 in Cells G24-G27
G14: No. of Each
C15: B. Other Personnel | D15: PostDoctoral Associates | M15: =SUM(H15:L15) -> 0
D16: Other Professionals (Techs, etc.) | M16: =SUM(H16:L16) -> 0
D17: Admin/Clerical | M17: =SUM(H17:L17) -> 0
D18: Graduate Students | M18: =SUM(H18:L18) -> 0
D19: Undergraduates | M19: =SUM(H19:L19) -> 0
D20: Temp (Employee Type?) | M20: =SUM(H20:L20) -> 0
D21: Total Salaries & Wages | H21: =SUM(H10:H20) -> 0 | I21: =SUM(I10:I20) -> 0 | J21: =SUM(J10:J20) -> 0 | K21: =SUM(K10:K20) -> 0 | L21: =SUM(L10:L20) -> 0 | M21: =SUM(M10:M20) -> 0
C23: 2. Fringe Benefits | G23: Rate | N23: PLEASE DO NOT CHANGE THE GRAYED OUT FORMULAS
C24: A. Senior Personnel | D24: =D10 -> 0 | G24: 0.4275 | H24: =ROUND(H10*$G$24,0) -> 0 | I24: =ROUND(I10*$G$24,0) -> 0 | J24: =ROUND(J10*$G$24,0) -> 0 | K24: =ROUND(K10*$G$24,0) -> 0 | L24: =ROUND(L10*$G$24,0) -> 0 | M24: =SUM(H24:L24) -> 0 | N24: Note for Senior Key Personnel
D25: =D11 -> 0 | G25: 0.4275 | H25: =ROUND(H11*$G$25,0) -> 0 | I25: =ROUND(I11*$G$25,0) -> 0 | J25: =ROUND(J11*$G$25,0) -> 0 | K25: =ROUND(K11*$G$25,0) -> 0 | L25: =ROUND(L11*$G$25,0) -> 0 | M25: =SUM(H25:L25) -> 0 | N25: If Summer Salary, make sure
D26: =D12 -> 0 | G26: 0.4275 | H26: =ROUND(H12*$G$26,0) -> 0 | I26: =I12*G26 -> 0 | J26: =J12*G26 -> 0 | K26: =K12*G26 -> 0 | L26: =L12*G26 -> 0 | M26: =SUM(H26:L26) -> 0 | N26: you change the fringe rate
D27: =D13 -> 0 | G27: 0.4275 | H27: =ROUND(H13*$G$27,0) -> 0 | I27: =ROUND(I13*$G$27,0) -> 0 | J27: =ROUND(J13*$G$27,0) -> 0 | K27: =ROUND(K13*$G$27,0) -> 0 | L27: =ROUND(L13*$G$27,0) -> 0 | M27: =SUM(H27:L27) -> 0 | N27: to 24.50% in Cells G24-G27
C29: B. Other Personnel | D29: =D15 -> PostDoctoral Associates | G29: 0.4275 | H29: =ROUND(H15*$G$29,0) -> 0 | I29: =ROUND(I15*$G$29,0) -> 0 | J29: =ROUND(J15*$G$29,0) -> 0 | K29: =ROUND(K15*$G$29,0) -> 0 | L29: =ROUND(L15*$G$29,0) -> 0 | M29: =SUM(H29:L29) -> 0
D30: =D16 -> Other Professionals (Techs, etc.) | G30: 0.4275 | H30: =ROUND(H16*$G$30,0) -> 0 | I30: =ROUND(I16*$G$30,0) -> 0 | J30: =ROUND(J16*$G$30,0) -> 0 | K30: =ROUND(K16*$G$30,0) -> 0 | L30: =ROUND(L16*$G$30,0) -> 0 | M30: =SUM(H30:L30) -> 0
D31: =D17 -> Admin/Clerical | G31: 0.4275 | H31: =ROUND(H17*$G$31,0) -> 0 | I31: =ROUND(I17*$G$31,0) -> 0 | J31: =ROUND(J17*$G$31,0) -> 0 | K31: =ROUND(K17*$G$31,0) -> 0 | L31: =ROUND(L17*$G$31,0) -> 0 | M31: =SUM(H31:L31) -> 0
D32: =D18 -> Graduate Students | G32: 0.26 | H32: =ROUND(H18*$G$32,0) -> 0 | I32: =ROUND(I18*$G$32,0) -> 0 | J32: =ROUND(J18*$G$32,0) -> 0 | K32: =ROUND(K18*$G$32,0) -> 0 | L32: =ROUND(L18*$G$32,0) -> 0 | M32: =SUM(H32:L32) -> 0
D33: =D19 -> Undergraduates | G33: 0.015 | H33: =ROUND(H19*$G$33,0) -> 0 | I33: =ROUND(I19*$G$33,0) -> 0 | J33: =ROUND(J19*$G$33,0) -> 0 | K33: =ROUND(K19*$G$33,0) -> 0 | L33: =ROUND(L19*$G$33,0) -> 0 | M33: =SUM(H33:L33) -> 0
D34: =D20 -> Temp (Employee Type?) | G34: 0.245 | H34: =ROUND(H20*$G$34,0) -> 0 | I34: =ROUND(I20*$G$34,0) -> 0 | J34: =ROUND(J20*$G$34,0) -> 0 | K34: =ROUND(K20*$G$34,0) -> 0 | L34: =ROUND(L20*$G$34,0) -> 0 | M34: =SUM(H34:L34) -> 0
D35: Total Fringe Benefits | H35: =SUM(H24:H34) -> 0 | I35: =SUM(I24:I34) -> 0 | J35: =SUM(J24:J34) -> 0 | K35: =SUM(K24:K34) -> 0 | L35: =SUM(L24:L34) -> 0 | M35: =SUM(M24:M34) -> 0
D37: Total Personnel | H37: =SUM(H21,H35) -> 0 | I37: =SUM(I21,I35) -> 0 | J37: =SUM(J21,J35) -> 0 | K37: =SUM(K21,K35) -> 0 | L37: =SUM(L21,L35) -> 0 | M37: =SUM(M21,M35) -> 0
B39: B. Capitalized Equipment ($5K or Greater)
C40: 1 | M40: =SUM(H40:L40) -> 0
C41: 2 | M41: =SUM(H41:L41) -> 0
C42: 3 | M42: =SUM(H42:L42) -> 0
C43: 4 | M43: =SUM(H43:L43) -> 0
C44: 5 | M44: =SUM(H44:L44) -> 0
D45: Total Equipment | H45: =SUM(H40:H44) -> 0 | I45: =SUM(I40:I44) -> 0 | J45: =SUM(J40:J44) -> 0 | K45: =SUM(K40:K44) -> 0 | L45: =SUM(L40:L44) -> 0 | M45: =SUM(M40:M44) -> 0
...

Sheet PI 6
D1: Sponsor Name: | K1: Indirect Rate: | L1: ='PI 1'!L1 -> 0.4165 | M1: Do not change
D2: Start Date:
D3: End Date:
D4: Principal Investigator:
D5: Project Title:
H7: Year 1 | I7: Year 2 | J7: Year 3 | K7: Year 4 | L7: Year 5 | M7: Total
B8: A. Personnel (Salaries, Wages, & Fringe)
C9: 1. Senior Key Personnel | E9: Academic or Calendar Months | F9: Base Pay | G9: FTE
C10: A. Senior Personnel | M10: =SUM(H10:L10) -> 0
M11: =SUM(H11:L11) -> 0
M12: =SUM(H12:L12) -> 0
M13: =SUM(H13:L13) -> 0
G14: No. of Each
C15: B. Other Personnel | D15: PostDoctoral Associates | M15: =SUM(H15:L15) -> 0
D16: Other Professionals (Techs, etc.) | M16: =SUM(H16:L16) -> 0
D17: Admin/Clerical | M17: =SUM(H17:L17) -> 0
D18: Graduate Students | M18: =SUM(H18:L18) -> 0
D19: Undergraduates | M19: =SUM(H19:L19) -> 0
D20: Temp (Employee Type?) | M20: =SUM(H20:L20) -> 0
D21: Total Salaries & Wages | H21: =SUM(H10:H20) -> 0 | I21: =SUM(I10:I20) -> 0 | J21: =SUM(J10:J20) -> 0 | K21: =SUM(K10:K20) -> 0 | L21: =SUM(L10:L20) -> 0 | M21: =SUM(M10:M20) -> 0
C23: 2. Fringe Benefits | G23: Rate
C24: A. Senior Personnel | D24: =D10 -> 0 | G24: 0.4275 | H24: =ROUND(H10*$G$24,0) -> 0 | I24: =ROUND(I10*$G$24,0) -> 0 | J24: =ROUND(J10*$G$24,0) -> 0 | K24: =ROUND(K10*$G$24,0) -> 0 | L24: =ROUND(L10*$G$24,0) -> 0 | M24: =SUM(H24:L24) -> 0
D25: =D11 -> 0 | G25: 0.4275 | H25: =ROUND(H11*$G$25,0) -> 0 | I25: =ROUND(I11*$G$25,0) -> 0 | J25: =ROUND(J11*$G$25,0) -> 0 | K25: =ROUND(K11*$G$25,0) -> 0 | L25: =ROUND(L11*$G$25,0) -> 0 | M25: =SUM(H25:L25) -> 0
D26: =D12 -> 0 | G26: 0.4275 | H26: =ROUND(H12*$G$26,0) -> 0 | I26: =I12*G26 -> 0 | J26: =J12*G26 -> 0 | K26: =K12*G26 -> 0 | L26: =L12*G26 -> 0 | M26: =SUM(H26:L26) -> 0
D27: =D13 -> 0 | G27: 0.4275 | H27: =ROUND(H13*$G$27,0) -> 0 | I27: =ROUND(I13*$G$27,0) -> 0 | J27: =ROUND(J13*$G$27,0) -> 0 | K27: =ROUND(K13*$G$27,0) -> 0 | L27: =ROUND(L13*$G$27,0) -> 0 | M27: =SUM(H27:L27) -> 0
C29: B. Other Personnel | D29: =D15 -> PostDoctoral Associates | G29: 0.4275 | H29: =ROUND(H15*$G$29,0) -> 0 | I29: =ROUND(I15*$G$29,0) -> 0 | J29: =ROUND(J15*$G$29,0) -> 0 | K29: =ROUND(K15*$G$29,0) -> 0 | L29: =ROUND(L15*$G$29,0) -> 0 | M29: =SUM(H29:L29) -> 0
D30: =D16 -> Other Professionals (Techs, etc.) | G30: 0.4275 | H30: =ROUND(H16*$G$30,0) -> 0 | I30: =ROUND(I16*$G$30,0) -> 0 | J30: =ROUND(J16*$G$30,0) -> 0 | K30: =ROUND(K16*$G$30,0) -> 0 | L30: =ROUND(L16*$G$30,0) -> 0 | M30: =SUM(H30:L30) -> 0
D31: =D17 -> Admin/Clerical | G31: 0.4275 | H31: =ROUND(H17*$G$31,0) -> 0 | I31: =ROUND(I17*$G$31,0) -> 0 | J31: =ROUND(J17*$G$31,0) -> 0 | K31: =ROUND(K17*$G$31,0) -> 0 | L31: =ROUND(L17*$G$31,0) -> 0 | M31: =SUM(H31:L31) -> 0
D32: =D18 -> Graduate Students | G32: 0.26 | H32: =ROUND(H18*$G$32,0) -> 0 | I32: =ROUND(I18*$G$32,0) -> 0 | J32: =ROUND(J18*$G$32,0) -> 0 | K32: =ROUND(K18*$G$32,0) -> 0 | L32: =ROUND(L18*$G$32,0) -> 0 | M32: =SUM(H32:L32) -> 0
D33: =D19 -> Undergraduates | G33: 0.015 | H33: =ROUND(H19*$G$33,0) -> 0 | I33: =ROUND(I19*$G$33,0) -> 0 | J33: =ROUND(J19*$G$33,0) -> 0 | K33: =ROUND(K19*$G$33,0) -> 0 | L33: =ROUND(L19*$G$33,0) -> 0 | M33: =SUM(H33:L33) -> 0
D34: =D20 -> Temp (Employee Type?) | G34: 0.245 | H34: =ROUND(H20*$G$34,0) -> 0 | I34: =ROUND(I20*$G$34,0) -> 0 | J34: =ROUND(J20*$G$34,0) -> 0 | K34: =ROUND(K20*$G$34,0) -> 0 | L34: =ROUND(L20*$G$34,0) -> 0 | M34: =SUM(H34:L34) -> 0
D35: Total Fringe Benefits | H35: =SUM(H24:H34) -> 0 | I35: =SUM(I24:I34) -> 0 | J35: =SUM(J24:J34) -> 0 | K35: =SUM(K24:K34) -> 0 | L35: =SUM(L24:L34) -> 0 | M35: =SUM(M24:M34) -> 0
D37: Total Personnel | H37: =SUM(H21,H35) -> 0 | I37: =SUM(I21,I35) -> 0 | J37: =SUM(J21,J35) -> 0 | K37: =SUM(K21,K35) -> 0 | L37: =SUM(L21,L35) -> 0 | M37: =SUM(M21,M35) -> 0
B39: B. Capitalized Equipment ($5K or Greater)
C40: 1 | M40: =SUM(H40:L40) -> 0
C41: 2 | M41: =SUM(H41:L41) -> 0
C42: 3 | M42: =SUM(H42:L42) -> 0
C43: 4 | M43: =SUM(H43:L43) -> 0
C44: 5 | M44: =SUM(H44:L44) -> 0
D45: Total Equipment | H45: =SUM(H40:H44) -> 0 | I45: =SUM(I40:I44) -> 0 | J45: =SUM(J40:J44) -> 0 | K45: =SUM(K40:K44) -> 0 | L45: =SUM(L40:L44) -> 0 | M45: =SUM(M40:M44) -> 0
...

Sheet PI 7
D1: Sponsor Name: | K1: Indirect Rate: | L1: ='PI 1'!L1 -> 0.4165 | M1: Do not change
D2: Start Date:
D3: End Date:
D4: Principal Investigator:
D5: Project Title:
H7: Year 1 | I7: Year 2 | J7: Year 3 | K7: Year 4 | L7: Year 5 | M7: Total
B8: A. Personnel (Salaries, Wages, & Fringe)
C9: 1. Senior Key Personnel | E9: Academic or Calendar Months | F9: Base Pay | G9: FTE
C10: A. Senior Personnel | M10: =SUM(H10:L10) -> 0 | N10: Note for Senior Key Personnel
M11: =SUM(H11:L11) -> 0 | N11: If Summer Salary, make sure
M12: =SUM(H12:L12) -> 0 | N12: you change the fringe rate
M13: =SUM(H13:L13) -> 0 | N13: to 24.5% in Cells G24-G27
G14: No. of Each
C15: B. Other Personnel | D15: PostDoctoral Associates | M15: =SUM(H15:L15) -> 0
D16: Other Professionals (Techs, etc.) | M16: =SUM(H16:L16) -> 0
D17: Admin/Clerical | M17: =SUM(H17:L17) -> 0
D18: Graduate Students | M18: =SUM(H18:L18) -> 0
D19: Undergraduates | M19: =SUM(H19:L19) -> 0
D20: Temp (Employee Type?) | M20: =SUM(H20:L20) -> 0
D21: Total Salaries & Wages | H21: =SUM(H10:H20) -> 0 | I21: =SUM(I10:I20) -> 0 | J21: =SUM(J10:J20) -> 0 | K21: =SUM(K10:K20) -> 0 | L21: =SUM(L10:L20) -> 0 | M21: =SUM(M10:M20) -> 0
C23: 2. Fringe Benefits | G23: Rate | N23: PLEASE DO NOT CHANGE THE GRAYED OUT FORMULAS
C24: A. Senior Personnel | D24: =D10 -> 0 | G24: 0.4275 | H24: =ROUND(H10*$G$24,0) -> 0 | I24: =ROUND(I10*$G$24,0) -> 0 | J24: =ROUND(J10*$G$24,0) -> 0 | K24: =ROUND(K10*$G$24,0) -> 0 | L24: =ROUND(L10*$G$24,0) -> 0 | M24: =SUM(H24:L24) -> 0 | N24: Note for Senior Key Personnel
D25: =D11 -> 0 | G25: 0.4275 | H25: =ROUND(H11*$G$25,0) -> 0 | I25: =ROUND(I11*$G$25,0) -> 0 | J25: =ROUND(J11*$G$25,0) -> 0 | K25: =ROUND(K11*$G$25,0) -> 0 | L25: =ROUND(L11*$G$25,0) -> 0 | M25: =SUM(H25:L25) -> 0 | N25: If Summer Salary, make sure
D26: =D12 -> 0 | G26: 0.4275 | H26: =ROUND(H12*$G$26,0) -> 0 | I26: =I12*G26 -> 0 | J26: =J12*G26 -> 0 | K26: =K12*G26 -> 0 | L26: =L12*G26 -> 0 | M26: =SUM(H26:L26) -> 0 | N26: you change the fringe rate
D27: =D13 -> 0 | G27: 0.4275 | H27: =ROUND(H13*$G$27,0) -> 0 | I27: =ROUND(I13*$G$27,0) -> 0 | J27: =ROUND(J13*$G$27,0) -> 0 | K27: =ROUND(K13*$G$27,0) -> 0 | L27: =ROUND(L13*$G$27,0) -> 0 | M27: =SUM(H27:L27) -> 0 | N27: to 24.5% in Cells G24-G27
C29: B. Other Personnel | D29: =D15 -> PostDoctoral Associates | G29: 0.4275 | H29: =ROUND(H15*$G$29,0) -> 0 | I29: =ROUND(I15*$G$29,0) -> 0 | J29: =ROUND(J15*$G$29,0) -> 0 | K29: =ROUND(K15*$G$29,0) -> 0 | L29: =ROUND(L15*$G$29,0) -> 0 | M29: =SUM(H29:L29) -> 0
D30: =D16 -> Other Professionals (Techs, etc.) | G30: 0.4275 | H30: =ROUND(H16*$G$30,0) -> 0 | I30: =ROUND(I16*$G$30,0) -> 0 | J30: =ROUND(J16*$G$30,0) -> 0 | K30: =ROUND(K16*$G$30,0) -> 0 | L30: =ROUND(L16*$G$30,0) -> 0 | M30: =SUM(H30:L30) -> 0
D31: =D17 -> Admin/Clerical | G31: 0.4275 | H31: =ROUND(H17*$G$31,0) -> 0 | I31: =ROUND(I17*$G$31,0) -> 0 | J31: =ROUND(J17*$G$31,0) -> 0 | K31: =ROUND(K17*$G$31,0) -> 0 | L31: =ROUND(L17*$G$31,0) -> 0 | M31: =SUM(H31:L31) -> 0
D32: =D18 -> Graduate Students | G32: 0.26 | H32: =ROUND(H18*$G$32,0) -> 0 | I32: =ROUND(I18*$G$32,0) -> 0 | J32: =ROUND(J18*$G$32,0) -> 0 | K32: =ROUND(K18*$G$32,0) -> 0 | L32: =ROUND(L18*$G$32,0) -> 0 | M32: =SUM(H32:L32) -> 0
D33: =D19 -> Undergraduates | G33: 0.015 | H33: =ROUND(H19*$G$33,0) -> 0 | I33: =ROUND(I19*$G$33,0) -> 0 | J33: =ROUND(J19*$G$33,0) -> 0 | K33: =ROUND(K19*$G$33,0) -> 0 | L33: =ROUND(L19*$G$33,0) -> 0 | M33: =SUM(H33:L33) -> 0
D34: =D20 -> Temp (Employee Type?) | G34: 0.245 | H34: =ROUND(H20*$G$34,0) -> 0 | I34: =ROUND(I20*$G$34,0) -> 0 | J34: =ROUND(J20*$G$34,0) -> 0 | K34: =ROUND(K20*$G$34,0) -> 0 | L34: =ROUND(L20*$G$34,0) -> 0 | M34: =SUM(H34:L34) -> 0
D35: Total Fringe Benefits | H35: =SUM(H24:H34) -> 0 | I35: =SUM(I24:I34) -> 0 | J35: =SUM(J24:J34) -> 0 | K35: =SUM(K24:K34) -> 0 | L35: =SUM(L24:L34) -> 0 | M35: =SUM(M24:M34) -> 0
D37: Total Personnel | H37: =SUM(H21,H35) -> 0 | I37: =SUM(I21,I35) -> 0 | J37: =SUM(J21,J35) -> 0 | K37: =SUM(K21,K35) -> 0 | L37: =SUM(L21,L35) -> 0 | M37: =SUM(M21,M35) -> 0
B39: B. Capitalized Equipment ($5K or Greater)
C40: 1 | M40: =SUM(H40:L40) -> 0
C41: 2 | M41: =SUM(H41:L41) -> 0
C42: 3 | M42: =SUM(H42:L42) -> 0
C43: 4 | M43: =SUM(H43:L43) -> 0
C44: 5 | M44: =SUM(H44:L44) -> 0
D45: Total Equipment | H45: =SUM(H40:H44) -> 0 | I45: =SUM(I40:I44) -> 0 | J45: =SUM(J40:J44) -> 0 | K45: =SUM(K40:K44) -> 0 | L45: =SUM(L40:L44) -> 0 | M45: =SUM(M40:M44) -> 0
...

Sheet PI 8
D1: Sponsor Name: | K1: Indirect Rate: | L1: ='PI 1'!L1 -> 0.4165 | M1: Do not change
D2: Start Date:
D3: End Date:
D4: Principal Investigator:
D5: Project Title:
H7: Year 1 | I7: Year 2 | J7: Year 3 | K7: Year 4 | L7: Year 5 | M7: Total
B8: A. Personnel (Salaries, Wages, & Fringe)
C9: 1. Senior Key Personnel | E9: Academic or Calendar Months | F9: Base Pay | G9: FTE
C10: A. Senior Personnel | M10: =SUM(H10:L10) -> 0 | N10: Note for Senior Key Personnel
M11: =SUM(H11:L11) -> 0 | N11: If Summer Salary, make sure
M12: =SUM(H12:L12) -> 0 | N12: you change the fringe rate
M13: =SUM(H13:L13) -> 0 | N13: to 24.50% in Cells G24-G27
G14: No. of Each
C15: B. Other Personnel | D15: PostDoctoral Associates | M15: =SUM(H15:L15) -> 0
D16: Other Professionals (Techs, etc.) | M16: =SUM(H16:L16) -> 0
D17: Admin/Clerical | M17: =SUM(H17:L17) -> 0
D18: Graduate Students | M18: =SUM(H18:L18) -> 0
D19: Udergraduates | M19: =SUM(H19:L19) -> 0
D20: Temp | M20: =SUM(H20:L20) -> 0
D21: Total Salaries & Wages | H21: =SUM(H10:H20) -> 0 | I21: =SUM(I10:I20) -> 0 | J21: =SUM(J10:J20) -> 0 | K21: =SUM(K10:K20) -> 0 | L21: =SUM(L10:L20) -> 0 | M21: =SUM(M10:M20) -> 0
C23: 2. Fringe Benefits | G23: Rate | N23: PLEASE DO NOT CHANGE THE GRAYED OUT FORMULAS
C24: A. Senior Personnel | D24: =D10 -> 0 | G24: 0.4275 | H24: =ROUND(H10*$G$24,0) -> 0 | I24: =ROUND(I10*$G$24,0) -> 0 | J24: =ROUND(J10*$G$24,0) -> 0 | K24: =ROUND(K10*$G$24,0) -> 0 | L24: =ROUND(L10*$G$24,0) -> 0 | M24: =SUM(H24:L24) -> 0 | N24: Note for Senior Key Personnel
D25: =D11 -> 0 | G25: 0.4275 | H25: =ROUND(H11*$G$25,0) -> 0 | I25: =ROUND(I11*$G$25,0) -> 0 | J25: =ROUND(J11*$G$25,0) -> 0 | K25: =ROUND(K11*$G$25,0) -> 0 | L25: =ROUND(L11*$G$25,0) -> 0 | M25: =SUM(H25:L25) -> 0 | N25: If Summer Salary, make sure
D26: =D12 -> 0 | G26: 0.4275 | H26: =ROUND(H12*$G$26,0) -> 0 | I26: =I12*G26 -> 0 | J26: =J12*G26 -> 0 | K26: =K12*G26 -> 0 | L26: =L12*G26 -> 0 | M26: =SUM(H26:L26) -> 0 | N26: you change the fringe rate
D27: =D13 -> 0 | G27: 0.4275 | H27: =ROUND(H13*$G$27,0) -> 0 | I27: =ROUND(I13*$G$27,0) -> 0 | J27: =ROUND(J13*$G$27,0) -> 0 | K27: =ROUND(K13*$G$27,0) -> 0 | L27: =ROUND(L13*$G$27,0) -> 0 | M27: =SUM(H27:L27) -> 0 | N27: to 24.50% in Cells G24-G27
C29: B. Other Personnel | D29: =D15 -> PostDoctoral Associates | G29: 0.4275 | H29: =ROUND(H15*$G$29,0) -> 0 | I29: =ROUND(I15*$G$29,0) -> 0 | J29: =ROUND(J15*$G$29,0) -> 0 | K29: =ROUND(K15*$G$29,0) -> 0 | L29: =ROUND(L15*$G$29,0) -> 0 | M29: =SUM(H29:L29) -> 0
D30: =D16 -> Other Professionals (Techs, etc.) | G30: 0.4275 | H30: =ROUND(H16*$G$30,0) -> 0 | I30: =ROUND(I16*$G$30,0) -> 0 | J30: =ROUND(J16*$G$30,0) -> 0 | K30: =ROUND(K16*$G$30,0) -> 0 | L30: =ROUND(L16*$G$30,0) -> 0 | M30: =SUM(H30:L30) -> 0
D31: =D17 -> Admin/Clerical | G31: 0.4275 | H31: =ROUND(H17*$G$31,0) -> 0 | I31: =ROUND(I17*$G$31,0) -> 0 | J31: =ROUND(J17*$G$31,0) -> 0 | K31: =ROUND(K17*$G$31,0) -> 0 | L31: =ROUND(L17*$G$31,0) -> 0 | M31: =SUM(H31:L31) -> 0
D32: =D18 -> Graduate Students | G32: 0.26 | H32: =ROUND(H18*$G$32,0) -> 0 | I32: =ROUND(I18*$G$32,0) -> 0 | J32: =ROUND(J18*$G$32,0) -> 0 | K32: =ROUND(K18*$G$32,0) -> 0 | L32: =ROUND(L18*$G$32,0) -> 0 | M32: =SUM(H32:L32) -> 0
D33: =D19 -> Udergraduates | G33: 0.015 | H33: =ROUND(H19*$G$33,0) -> 0 | I33: =ROUND(I19*$G$33,0) -> 0 | J33: =ROUND(J19*$G$33,0) -> 0 | K33: =ROUND(K19*$G$33,0) -> 0 | L33: =ROUND(L19*$G$33,0) -> 0 | M33: =SUM(H33:L33) -> 0
D34: =D20 -> Temp | G34: 0.245 | H34: =ROUND(H20*$G$34,0) -> 0 | I34: =ROUND(I20*$G$34,0) -> 0 | J34: =ROUND(J20*$G$34,0) -> 0 | K34: =ROUND(K20*$G$34,0) -> 0 | L34: =ROUND(L20*$G$34,0) -> 0 | M34: =SUM(H34:L34) -> 0
D35: Total Fringe Benefits | H35: =SUM(H24:H34) -> 0 | I35: =SUM(I24:I34) -> 0 | J35: =SUM(J24:J34) -> 0 | K35: =SUM(K24:K34) -> 0 | L35: =SUM(L24:L34) -> 0 | M35: =SUM(M24:M34) -> 0
D37: Total Personnel | H37: =SUM(H21,H35) -> 0 | I37: =SUM(I21,I35) -> 0 | J37: =SUM(J21,J35) -> 0 | K37: =SUM(K21,K35) -> 0 | L37: =SUM(L21,L35) -> 0 | M37: =SUM(M21,M35) -> 0
B39: B. Capitalized Equipment ($5K or Greater)
C40: 1 | M40: =SUM(H40:L40) -> 0
C41: 2 | M41: =SUM(H41:L41) -> 0
C42: 3 | M42: =SUM(H42:L42) -> 0
C43: 4 | M43: =SUM(H43:L43) -> 0
C44: 5 | M44: =SUM(H44:L44) -> 0
D45: Total Equipment | H45: =SUM(H40:H44) -> 0 | I45: =SUM(I40:I44) -> 0 | J45: =SUM(J40:J44) -> 0 | K45: =SUM(K40:K44) -> 0 | L45: =SUM(L40:L44) -> 0 | M45: =SUM(M40:M44) -> 0
...

Sheet PI 9
D1: Sponsor Name: | K1: Indirect Rate: | L1: ='PI 1'!L1 -> 0.4165 | M1: Do not change
D2: Start Date:
D3: End Date:
D4: Principal Investigator:
D5: Project Title:
H7: Year 1 | I7: Year 2 | J7: Year 3 | K7: Year 4 | L7: Year 5 | M7: Total
B8: A. Personnel (Salaries, Wages, & Fringe)
C9: 1. Senior Key Personnel | E9: Academic or Calendar Months | F9: Base Pay | G9: FTE
C10: A. Senior Personnel | M10: =SUM(H10:L10) -> 0 | N10: Note for Senior Key Personnel
M11: =SUM(H11:L11) -> 0 | N11: If Summer Salary, make sure
M12: =SUM(H12:L12) -> 0 | N12: you change the fringe rate
M13: =SUM(H13:L13) -> 0 | N13: to 24.50% in Cells G24-G27
G14: No. of Each
C15: B. Other Personnel | D15: PostDoctoral Associates | M15: =SUM(H15:L15) -> 0
D16: Other Professionals (Techs, etc.) | M16: =SUM(H16:L16) -> 0
D17: Admin/Clerical | M17: =SUM(H17:L17) -> 0
D18: Graduate Students | M18: =SUM(H18:L18) -> 0
D19: Udergraduates | M19: =SUM(H19:L19) -> 0
D20: Temp | M20: =SUM(H20:L20) -> 0
D21: Total Salaries & Wages | H21: =SUM(H10:H20) -> 0 | I21: =SUM(I10:I20) -> 0 | J21: =SUM(J10:J20) -> 0 | K21: =SUM(K10:K20) -> 0 | L21: =SUM(L10:L20) -> 0 | M21: =SUM(M10:M20) -> 0
C23: 2. Fringe Benefits | G23: Rate | N23: PLEASE DO NOT CHANGE THE GRAYED OUT FORMULAS
C24: A. Senior Personnel | D24: =D10 -> 0 | G24: 0.4275 | H24: =ROUND(H10*$G$24,0) -> 0 | I24: =ROUND(I10*$G$24,0) -> 0 | J24: =ROUND(J10*$G$24,0) -> 0 | K24: =ROUND(K10*$G$24,0) -> 0 | L24: =ROUND(L10*$G$24,0) -> 0 | M24: =SUM(H24:L24) -> 0 | N24: Note for Senior Key Personnel
D25: =D11 -> 0 | G25: 0.4275 | H25: =ROUND(H11*$G$25,0) -> 0 | I25: =ROUND(I11*$G$25,0) -> 0 | J25: =ROUND(J11*$G$25,0) -> 0 | K25: =ROUND(K11*$G$25,0) -> 0 | L25: =ROUND(L11*$G$25,0) -> 0 | M25: =SUM(H25:L25) -> 0 | N25: If Summer Salary, make sure
D26: =D12 -> 0 | G26: 0.4275 | H26: =ROUND(H12*$G$26,0) -> 0 | I26: =I12*G26 -> 0 | J26: =J12*G26 -> 0 | K26: =K12*G26 -> 0 | L26: =L12*G26 -> 0 | M26: =SUM(H26:L26) -> 0 | N26: you change the fringe rate
D27: =D13 -> 0 | G27: 0.4275 | H27: =ROUND(H13*$G$27,0) -> 0 | I27: =ROUND(I13*$G$27,0) -> 0 | J27: =ROUND(J13*$G$27,0) -> 0 | K27: =ROUND(K13*$G$27,0) -> 0 | L27: =ROUND(L13*$G$27,0) -> 0 | M27: =SUM(H27:L27) -> 0 | N27: to 24.50% in Cells G24-G27
C29: B. Other Personnel | D29: =D15 -> PostDoctoral Associates | G29: 0.4275 | H29: =ROUND(H15*$G$29,0) -> 0 | I29: =ROUND(I15*$G$29,0) -> 0 | J29: =ROUND(J15*$G$29,0) -> 0 | K29: =ROUND(K15*$G$29,0) -> 0 | L29: =ROUND(L15*$G$29,0) -> 0 | M29: =SUM(H29:L29) -> 0
D30: =D16 -> Other Professionals (Techs, etc.) | G30: 0.4275 | H30: =ROUND(H16*$G$30,0) -> 0 | I30: =ROUND(I16*$G$30,0) -> 0 | J30: =ROUND(J16*$G$30,0) -> 0 | K30: =ROUND(K16*$G$30,0) -> 0 | L30: =ROUND(L16*$G$30,0) -> 0 | M30: =SUM(H30:L30) -> 0
D31: =D17 -> Admin/Clerical | G31: 0.4275 | H31: =ROUND(H17*$G$31,0) -> 0 | I31: =ROUND(I17*$G$31,0) -> 0 | J31: =ROUND(J17*$G$31,0) -> 0 | K31: =ROUND(K17*$G$31,0) -> 0 | L31: =ROUND(L17*$G$31,0) -> 0 | M31: =SUM(H31:L31) -> 0
D32: =D18 -> Graduate Students | G32: 0.26 | H32: =ROUND(H18*$G$32,0) -> 0 | I32: =ROUND(I18*$G$32,0) -> 0 | J32: =ROUND(J18*$G$32,0) -> 0 | K32: =ROUND(K18*$G$32,0) -> 0 | L32: =ROUND(L18*$G$32,0) -> 0 | M32: =SUM(H32:L32) -> 0
D33: =D19 -> Udergraduates | G33: 0.015 | H33: =ROUND(H19*$G$33,0) -> 0 | I33: =ROUND(I19*$G$33,0) -> 0 | J33: =ROUND(J19*$G$33,0) -> 0 | K33: =ROUND(K19*$G$33,0) -> 0 | L33: =ROUND(L19*$G$33,0) -> 0 | M33: =SUM(H33:L33) -> 0
D34: =D20 -> Temp | G34: 0.245 | H34: =ROUND(H20*$G$34,0) -> 0 | I34: =ROUND(I20*$G$34,0) -> 0 | J34: =ROUND(J20*$G$34,0) -> 0 | K34: =ROUND(K20*$G$34,0) -> 0 | L34: =ROUND(L20*$G$34,0) -> 0 | M34: =SUM(H34:L34) -> 0
D35: Total Fringe Benefits | H35: =SUM(H24:H34) -> 0 | I35: =SUM(I24:I34) -> 0 | J35: =SUM(J24:J34) -> 0 | K35: =SUM(K24:K34) -> 0 | L35: =SUM(L24:L34) -> 0 | M35: =SUM(M24:M34) -> 0
D37: Total Personnel | H37: =SUM(H21,H35) -> 0 | I37: =SUM(I21,I35) -> 0 | J37: =SUM(J21,J35) -> 0 | K37: =SUM(K21,K35) -> 0 | L37: =SUM(L21,L35) -> 0 | M37: =SUM(M21,M35) -> 0
B39: B. Capitalized Equipment ($5K or Greater)
C40: 1 | M40: =SUM(H40:L40) -> 0
C41: 2 | M41: =SUM(H41:L41) -> 0
C42: 3 | M42: =SUM(H42:L42) -> 0
C43: 4 | M43: =SUM(H43:L43) -> 0
C44: 5 | M44: =SUM(H44:L44) -> 0
D45: Total Equipment | H45: =SUM(H40:H44) -> 0 | I45: =SUM(I40:I44) -> 0 | J45: =SUM(J40:J44) -> 0 | K45: =SUM(K40:K44) -> 0 | L45: =SUM(L40:L44) -> 0 | M45: =SUM(M40:M44) -> 0
...

Sheet PI 10
D1: Sponsor Name: | K1: Indirect Rate: | L1: ='PI 1'!L1 -> 0.4165 | M1: Do not change
D2: Start Date:
D3: End Date:
D4: Principal Investigator:
D5: Project Title:
H7: Year 1 | I7: Year 2 | J7: Year 3 | K7: Year 4 | L7: Year 5 | M7: Total
B8: A. Personnel (Salaries, Wages, & Fringe)
C9: 1. Senior Key Personnel | E9: Academic or Calendar Months | F9: Base Pay | G9: FTE
C10: A. Senior Personnel | M10: =SUM(H10:L10) -> 0 | N10: Note for Senior Key Personnel
M11: =SUM(H11:L11) -> 0 | N11: If Summer Salary, make sure
M12: =SUM(H12:L12) -> 0 | N12: you change the fringe rate
M13: =SUM(H13:L13) -> 0 | N13: to 24.5% in Cells G24-G27
G14: No. of Each
C15: B. Other Personnel | D15: PostDoctoral Associates | M15: =SUM(H15:L15) -> 0
D16: Other Professionals (Techs, etc.) | M16: =SUM(H16:L16) -> 0
D17: Admin/Clerical | M17: =SUM(H17:L17) -> 0
D18: Graduate Students | M18: =SUM(H18:L18) -> 0
D19: Udergraduates | M19: =SUM(H19:L19) -> 0
D20: Temp | M20: =SUM(H20:L20) -> 0
D21: Total Salaries & Wages | H21: =SUM(H10:H20) -> 0 | I21: =SUM(I10:I20) -> 0 | J21: =SUM(J10:J20) -> 0 | K21: =SUM(K10:K20) -> 0 | L21: =SUM(L10:L20) -> 0 | M21: =SUM(M10:M20) -> 0
C23: 2. Fringe Benefits | G23: Rate | N23: PLEASE DO NOT CHANGE THE GRAYED OUT FORMULAS
C24: A. Senior Personnel | D24: =D10 -> 0 | G24: 0.4275 | H24: =ROUND(H10*$G$24,0) -> 0 | I24: =ROUND(I10*$G$24,0) -> 0 | J24: =ROUND(J10*$G$24,0) -> 0 | K24: =ROUND(K10*$G$24,0) -> 0 | L24: =ROUND(L10*$G$24,0) -> 0 | M24: =SUM(H24:L24) -> 0 | N24: Note for Senior Key Personnel
D25: =D11 -> 0 | G25: 0.4275 | H25: =ROUND(H11*$G$25,0) -> 0 | I25: =ROUND(I11*$G$25,0) -> 0 | J25: =ROUND(J11*$G$25,0) -> 0 | K25: =ROUND(K11*$G$25,0) -> 0 | L25: =ROUND(L11*$G$25,0) -> 0 | M25: =SUM(H25:L25) -> 0 | N25: If Summer Salary, make sure
D26: =D12 -> 0 | G26: 0.4275 | H26: =ROUND(H12*$G$26,0) -> 0 | I26: =I12*G26 -> 0 | J26: =J12*G26 -> 0 | K26: =K12*G26 -> 0 | L26: =L12*G26 -> 0 | M26: =SUM(H26:L26) -> 0 | N26: you change the fringe rate
D27: =D13 -> 0 | G27: 0.4275 | H27: =ROUND(H13*$G$27,0) -> 0 | I27: =ROUND(I13*$G$27,0) -> 0 | J27: =ROUND(J13*$G$27,0) -> 0 | K27: =ROUND(K13*$G$27,0) -> 0 | L27: =ROUND(L13*$G$27,0) -> 0 | M27: =SUM(H27:L27) -> 0 | N27: to 24.5% in Cells G24-G27
C29: B. Other Personnel | D29: =D15 -> PostDoctoral Associates | G29: 0.4275 | H29: =ROUND(H15*$G$29,0) -> 0 | I29: =ROUND(I15*$G$29,0) -> 0 | J29: =ROUND(J15*$G$29,0) -> 0 | K29: =ROUND(K15*$G$29,0) -> 0 | L29: =ROUND(L15*$G$29,0) -> 0 | M29: =SUM(H29:L29) -> 0
D30: =D16 -> Other Professionals (Techs, etc.) | G30: 0.4275 | H30: =ROUND(H16*$G$30,0) -> 0 | I30: =ROUND(I16*$G$30,0) -> 0 | J30: =ROUND(J16*$G$30,0) -> 0 | K30: =ROUND(K16*$G$30,0) -> 0 | L30: =ROUND(L16*$G$30,0) -> 0 | M30: =SUM(H30:L30) -> 0
D31: =D17 -> Admin/Clerical | G31: 0.4275 | H31: =ROUND(H17*$G$31,0) -> 0 | I31: =ROUND(I17*$G$31,0) -> 0 | J31: =ROUND(J17*$G$31,0) -> 0 | K31: =ROUND(K17*$G$31,0) -> 0 | L31: =ROUND(L17*$G$31,0) -> 0 | M31: =SUM(H31:L31) -> 0
D32: =D18 -> Graduate Students | G32: 0.26 | H32: =ROUND(H18*$G$32,0) -> 0 | I32: =ROUND(I18*$G$32,0) -> 0 | J32: =ROUND(J18*$G$32,0) -> 0 | K32: =ROUND(K18*$G$32,0) -> 0 | L32: =ROUND(L18*$G$32,0) -> 0 | M32: =SUM(H32:L32) -> 0 | R32: =SUM(M1) -> 0
D33: =D19 -> Udergraduates | G33: 0.015 | H33: =ROUND(H19*$G$33,0) -> 0 | I33: =ROUND(I19*$G$33,0) -> 0 | J33: =ROUND(J19*$G$33,0) -> 0 | K33: =ROUND(K19*$G$33,0) -> 0 | L33: =ROUND(L19*$G$33,0) -> 0 | M33: =SUM(H33:L33) -> 0
